Workbook

Sheet How to use
A1: Quota game spreadsheet
A2: Keep your group’s quotas for a season. After each round you add everyone’s points, and each player’s quota, plus/minus and place fill in.
A4: How to use it
A5: 1. On Settings, choose how many recent rounds make up a quota, how many decimal places to keep, and whether new players hold their starting quota.
A6: 2. On Points, set the points your group gives for each score, and count every round with them.
A7: 3. On Players, type each player’s name and starting quota. A common starting quota is 36 minus the player’s course handicap.
A8: 4. After each round, add one row per player on Rounds: the date, the name exactly as it is on Players, and their points.
A9: 5. Standings shows the season, best total plus/minus first. On Players, Current quota is each player’s quota for their next round.
A11: Each round uses the quota the player had going into it, so adding a round never changes an earlier one.
A12: Type only in the white columns. The grey ones fill in by themselves.
A13: Quotas here are the average of each player’s recent rounds. For the best 10 of 20, or another way, use the free quota calculator on GreenRoster.
A15: Points for each score
A16: =Points!A2 | B16: =Points!B2
A17: =Points!A3 | B17: =Points!B3
A18: =Points!A4 | B18: =Points!B4
A19: =Points!A5 | B19: =Points!B5
A20: =Points!A6 | B20: =Points!B6

Sheet Players
A1: Player | B1: Starting quota | C1: Handicap (optional) | D1: Current quota | E1: Rounds played | F1: Total plus/minus | G1: Wins | H1: Standings order
D2: =IF($A2="","",IF(OR($E2=0,AND(Settings!$B$4="Yes",$E2<Settings!$B$2)),IF($B2="","Add a starting quota",ROUND($B2,Settings!$B$3)),ROUND(SUMIFS(Rounds!$C$2:$C$501,Rounds!$B$2:$B$501,$A2,Rounds!$D$2:$D$501,">"&($E2-Settings!$B$2))/COUNTIFS(Rounds!$B$2:$B$501,$A2,Rounds!$D$2:$D$501,">"&($E2-Settings!$B$2)),Settings!$B$3))) | E2: =IF($A2="","",COUNTIFS(Rounds!$B$2:$B$501,$A2,Rounds!$D$2:$D$501,">0")) | F2: =IF($A2="","",ROUND(SUMIFS(Rounds!$F$2:$F$501,Rounds!$B$2:$B$501,$A2),2)) | G2: =IF($A2="","",COUNTIFS(Rounds!$B$2:$B$501,$A2,Rounds!$G$2:$G$501,1)) | H2: =IF($A2="","",COUNTIF($F$2:$F$101,">"&$F2)+COUNTIF($F$2:$F2,$F2))
D3: =IF($A3="","",IF(OR($E3=0,AND(Settings!$B$4="Yes",$E3<Settings!$B$2)),IF($B3="","Add a starting quota",ROUND($B3,Settings!$B$3)),ROUND(SUMIFS(Rounds!$C$2:$C$501,Rounds!$B$2:$B$501,$A3,Rounds!$D$2:$D$501,">"&($E3-Settings!$B$2))/COUNTIFS(Rounds!$B$2:$B$501,$A3,Rounds!$D$2:$D$501,">"&($E3-Settings!$B$2)),Settings!$B$3))) | E3: =IF($A3="","",COUNTIFS(Rounds!$B$2:$B$501,$A3,Rounds!$D$2:$D$501,">0")) | F3: =IF($A3="","",ROUND(SUMIFS(Rounds!$F$2:$F$501,Rounds!$B$2:$B$501,$A3),2)) | G3: =IF($A3="","",COUNTIFS(Rounds!$B$2:$B$501,$A3,Rounds!$G$2:$G$501,1)) | H3: =IF($A3="","",COUNTIF($F$2:$F$101,">"&$F3)+COUNTIF($F$2:$F3,$F3))
D4: =IF($A4="","",IF(OR($E4=0,AND(Settings!$B$4="Yes",$E4<Settings!$B$2)),IF($B4="","Add a starting quota",ROUND($B4,Settings!$B$3)),ROUND(SUMIFS(Rounds!$C$2:$C$501,Rounds!$B$2:$B$501,$A4,Rounds!$D$2:$D$501,">"&($E4-Settings!$B$2))/COUNTIFS(Rounds!$B$2:$B$501,$A4,Rounds!$D$2:$D$501,">"&($E4-Settings!$B$2)),Settings!$B$3))) | E4: =IF($A4="","",COUNTIFS(Rounds!$B$2:$B$501,$A4,Rounds!$D$2:$D$501,">0")) | F4: =IF($A4="","",ROUND(SUMIFS(Rounds!$F$2:$F$501,Rounds!$B$2:$B$501,$A4),2)) | G4: =IF($A4="","",COUNTIFS(Rounds!$B$2:$B$501,$A4,Rounds!$G$2:$G$501,1)) | H4: =IF($A4="","",COUNTIF($F$2:$F$101,">"&$F4)+COUNTIF($F$2:$F4,$F4))
D5: =IF($A5="","",IF(OR($E5=0,AND(Settings!$B$4="Yes",$E5<Settings!$B$2)),IF($B5="","Add a starting quota",ROUND($B5,Settings!$B$3)),ROUND(SUMIFS(Rounds!$C$2:$C$501,Rounds!$B$2:$B$501,$A5,Rounds!$D$2:$D$501,">"&($E5-Settings!$B$2))/COUNTIFS(Rounds!$B$2:$B$501,$A5,Rounds!$D$2:$D$501,">"&($E5-Settings!$B$2)),Settings!$B$3))) | E5: =IF($A5="","",COUNTIFS(Rounds!$B$2:$B$501,$A5,Rounds!$D$2:$D$501,">0")) | F5: =IF($A5="","",ROUND(SUMIFS(Rounds!$F$2:$F$501,Rounds!$B$2:$B$501,$A5),2)) | G5: =IF($A5="","",COUNTIFS(Rounds!$B$2:$B$501,$A5,Rounds!$G$2:$G$501,1)) | H5: =IF($A5="","",COUNTIF($F$2:$F$101,">"&$F5)+COUNTIF($F$2:$F5,$F5))
D6: =IF($A6="","",IF(OR($E6=0,AND(Settings!$B$4="Yes",$E6<Settings!$B$2)),IF($B6="","Add a starting quota",ROUND($B6,Settings!$B$3)),ROUND(SUMIFS(Rounds!$C$2:$C$501,Rounds!$B$2:$B$501,$A6,Rounds!$D$2:$D$501,">"&($E6-Settings!$B$2))/COUNTIFS(Rounds!$B$2:$B$501,$A6,Rounds!$D$2:$D$501,">"&($E6-Settings!$B$2)),Settings!$B$3))) | E6: =IF($A6="","",COUNTIFS(Rounds!$B$2:$B$501,$A6,Rounds!$D$2:$D$501,">0")) | F6: =IF($A6="","",ROUND(SUMIFS(Rounds!$F$2:$F$501,Rounds!$B$2:$B$501,$A6),2)) | G6: =IF($A6="","",COUNTIFS(Rounds!$B$2:$B$501,$A6,Rounds!$G$2:$G$501,1)) | H6: =IF($A6="","",COUNTIF($F$2:$F$101,">"&$F6)+COUNTIF($F$2:$F6,$F6))
D7: =IF($A7="","",IF(OR($E7=0,AND(Settings!$B$4="Yes",$E7<Settings!$B$2)),IF($B7="","Add a starting quota",ROUND($B7,Settings!$B$3)),ROUND(SUMIFS(Rounds!$C$2:$C$501,Rounds!$B$2:$B$501,$A7,Rounds!$D$2:$D$501,">"&($E7-Settings!$B$2))/COUNTIFS(Rounds!$B$2:$B$501,$A7,Rounds!$D$2:$D$501,">"&($E7-Settings!$B$2)),Settings!$B$3))) | E7: =IF($A7="","",COUNTIFS(Rounds!$B$2:$B$501,$A7,Rounds!$D$2:$D$501,">0")) | F7: =IF($A7="","",ROUND(SUMIFS(Rounds!$F$2:$F$501,Rounds!$B$2:$B$501,$A7),2)) | G7: =IF($A7="","",COUNTIFS(Rounds!$B$2:$B$501,$A7,Rounds!$G$2:$G$501,1)) | H7: =IF($A7="","",COUNTIF($F$2:$F$101,">"&$F7)+COUNTIF($F$2:$F7,$F7))
D8: =IF($A8="","",IF(OR($E8=0,AND(Settings!$B$4="Yes",$E8<Settings!$B$2)),IF($B8="","Add a starting quota",ROUND($B8,Settings!$B$3)),ROUND(SUMIFS(Rounds!$C$2:$C$501,Rounds!$B$2:$B$501,$A8,Rounds!$D$2:$D$501,">"&($E8-Settings!$B$2))/COUNTIFS(Rounds!$B$2:$B$501,$A8,Rounds!$D$2:$D$501,">"&($E8-Settings!$B$2)),Settings!$B$3))) | E8: =IF($A8="","",COUNTIFS(Rounds!$B$2:$B$501,$A8,Rounds!$D$2:$D$501,">0")) | F8: =IF($A8="","",ROUND(SUMIFS(Rounds!$F$2:$F$501,Rounds!$B$2:$B$501,$A8),2)) | G8: =IF($A8="","",COUNTIFS(Rounds!$B$2:$B$501,$A8,Rounds!$G$2:$G$501,1)) | H8: =IF($A8="","",COUNTIF($F$2:$F$101,">"&$F8)+COUNTIF($F$2:$F8,$F8))
D9: =IF($A9="","",IF(OR($E9=0,AND(Settings!$B$4="Yes",$E9<Settings!$B$2)),IF($B9="","Add a starting quota",ROUND($B9,Settings!$B$3)),ROUND(SUMIFS(Rounds!$C$2:$C$501,Rounds!$B$2:$B$501,$A9,Rounds!$D$2:$D$501,">"&($E9-Settings!$B$2))/COUNTIFS(Rounds!$B$2:$B$501,$A9,Rounds!$D$2:$D$501,">"&($E9-Settings!$B$2)),Settings!$B$3))) | E9: =IF($A9="","",COUNTIFS(Rounds!$B$2:$B$501,$A9,Rounds!$D$2:$D$501,">0")) | F9: =IF($A9="","",ROUND(SUMIFS(Rounds!$F$2:$F$501,Rounds!$B$2:$B$501,$A9),2)) | G9: =IF($A9="","",COUNTIFS(Rounds!$B$2:$B$501,$A9,Rounds!$G$2:$G$501,1)) | H9: =IF($A9="","",COUNTIF($F$2:$F$101,">"&$F9)+COUNTIF($F$2:$F9,$F9))
D10: =IF($A10="","",IF(OR($E10=0,AND(Settings!$B$4="Yes",$E10<Settings!$B$2)),IF($B10="","Add a starting quota",ROUND($B10,Settings!$B$3)),ROUND(SUMIFS(Rounds!$C$2:$C$501,Rounds!$B$2:$B$501,$A10,Rounds!$D$2:$D$501,">"&($E10-Settings!$B$2))/COUNTIFS(Rounds!$B$2:$B$501,$A10,Rounds!$D$2:$D$501,">"&($E10-Settings!$B$2)),Settings!$B$3))) | E10: =IF($A10="","",COUNTIFS(Rounds!$B$2:$B$501,$A10,Rounds!$D$2:$D$501,">0")) | F10: =IF($A10="","",ROUND(SUMIFS(Rounds!$F$2:$F$501,Rounds!$B$2:$B$501,$A10),2)) | G10: =IF($A10="","",COUNTIFS(Rounds!$B$2:$B$501,$A10,Rounds!$G$2:$G$501,1)) | H10: =IF($A10="","",COUNTIF($F$2:$F$101,">"&$F10)+COUNTIF($F$2:$F10,$F10))
D11: =IF($A11="","",IF(OR($E11=0,AND(Settings!$B$4="Yes",$E11<Settings!$B$2)),IF($B11="","Add a starting quota",ROUND($B11,Settings!$B$3)),ROUND(SUMIFS(Rounds!$C$2:$C$501,Rounds!$B$2:$B$501,$A11,Rounds!$D$2:$D$501,">"&($E11-Settings!$B$2))/COUNTIFS(Rounds!$B$2:$B$501,$A11,Rounds!$D$2:$D$501,">"&($E11-Settings!$B$2)),Settings!$B$3))) | E11: =IF($A11="","",COUNTIFS(Rounds!$B$2:$B$501,$A11,Rounds!$D$2:$D$501,">0")) | F11: =IF($A11="","",ROUND(SUMIFS(Rounds!$F$2:$F$501,Rounds!$B$2:$B$501,$A11),2)) | G11: =IF($A11="","",COUNTIFS(Rounds!$B$2:$B$501,$A11,Rounds!$G$2:$G$501,1)) | H11: =IF($A11="","",COUNTIF($F$2:$F$101,">"&$F11)+COUNTIF($F$2:$F11,$F11))
D12: =IF($A12="","",IF(OR($E12=0,AND(Settings!$B$4="Yes",$E12<Settings!$B$2)),IF($B12="","Add a starting quota",ROUND($B12,Settings!$B$3)),ROUND(SUMIFS(Rounds!$C$2:$C$501,Rounds!$B$2:$B$501,$A12,Rounds!$D$2:$D$501,">"&($E12-Settings!$B$2))/COUNTIFS(Rounds!$B$2:$B$501,$A12,Rounds!$D$2:$D$501,">"&($E12-Settings!$B$2)),Settings!$B$3))) | E12: =IF($A12="","",COUNTIFS(Rounds!$B$2:$B$501,$A12,Rounds!$D$2:$D$501,">0")) | F12: =IF($A12="","",ROUND(SUMIFS(Rounds!$F$2:$F$501,Rounds!$B$2:$B$501,$A12),2)) | G12: =IF($A12="","",COUNTIFS(Rounds!$B$2:$B$501,$A12,Rounds!$G$2:$G$501,1)) | H12: =IF($A12="","",COUNTIF($F$2:$F$101,">"&$F12)+COUNTIF($F$2:$F12,$F12))
D13: =IF($A13="","",IF(OR($E13=0,AND(Settings!$B$4="Yes",$E13<Settings!$B$2)),IF($B13="","Add a starting quota",ROUND($B13,Settings!$B$3)),ROUND(SUMIFS(Rounds!$C$2:$C$501,Rounds!$B$2:$B$501,$A13,Rounds!$D$2:$D$501,">"&($E13-Settings!$B$2))/COUNTIFS(Rounds!$B$2:$B$501,$A13,Rounds!$D$2:$D$501,">"&($E13-Settings!$B$2)),Settings!$B$3))) | E13: =IF($A13="","",COUNTIFS(Rounds!$B$2:$B$501,$A13,Rounds!$D$2:$D$501,">0")) | F13: =IF($A13="","",ROUND(SUMIFS(Rounds!$F$2:$F$501,Rounds!$B$2:$B$501,$A13),2)) | G13: =IF($A13="","",COUNTIFS(Rounds!$B$2:$B$501,$A13,Rounds!$G$2:$G$501,1)) | H13: =IF($A13="","",COUNTIF($F$2:$F$101,">"&$F13)+COUNTIF($F$2:$F13,$F13))
... D101: =IF($A101="","",IF(OR($E101=0,AND(Settings!$B$4="Yes",$E101<Settings!$B$2)),IF($B101="","Add a starting quota",ROUND($B101,Settings!$B$3)),ROUND(SUMIFS(Rounds!$C$2:$C$501,Rounds!$B$2:$B$501,$A101,Rounds!$D$2:$D$501,">"&($E101-Settings!$B$2))/COUNTIFS(Rounds!$B$2:$B$501,$A101,Rounds!$D$2:$D$501,">"&($E101-Settings!$B$2)),Settings!$B$3))) | E101: =IF($A101="","",COUNTIFS(Rounds!$B$2:$B$501,$A101,Rounds!$D$2:$D$501,">0")) | F101: =IF($A101="","",ROUND(SUMIFS(Rounds!$F$2:$F$501,Rounds!$B$2:$B$501,$A101),2)) | G101: =IF($A101="","",COUNTIFS(Rounds!$B$2:$B$501,$A101,Rounds!$G$2:$G$501,1)) | H101: =IF($A101="","",COUNTIF($F$2:$F$101,">"&$F101)+COUNTIF($F$2:$F101,$F101))

Sheet Rounds
A1: Date | B1: Player | C1: Points | D1: Player’s round number | E1: Quota for this round | F1: Plus/minus | G1: Place
D2: =IF(OR($A2="",$B2="",$C2=""),"",COUNTIFS($B$2:$B$501,$B2,$C$2:$C$501,"<>",$A$2:$A$501,"<"&$A2)+COUNTIFS($B$1:$B1,$B2,$C$1:$C1,"<>",$A$1:$A1,$A2)+1) | E2: =IF($D2="","",IF(OR($D2=1,AND(Settings!$B$4="Yes",$D2<=Settings!$B$2)),IF(COUNTIFS(Players!$A$2:$A$101,$B2,Players!$B$2:$B$101,"<>")=0,"Add a starting quota",ROUND(SUMIFS(Players!$B$2:$B$101,Players!$A$2:$A$101,$B2),Settings!$B$3)),ROUND(SUMIFS($C$2:$C$501,$B$2:$B$501,$B2,$D$2:$D$501,">="&($D2-Settings!$B$2),$D$2:$D$501,"<"&$D2)/COUNTIFS($B$2:$B$501,$B2,$D$2:$D$501,">="&($D2-Settings!$B$2),$D$2:$D$501,"<"&$D2),Settings!$B$3))) | F2: =IF(ISNUMBER($E2),ROUND($C2-$E2,2),"") | G2: =IF(ISNUMBER($F2),COUNTIFS($A$2:$A$501,$A2,$F$2:$F$501,">"&$F2)+1,"")
D3: =IF(OR($A3="",$B3="",$C3=""),"",COUNTIFS($B$2:$B$501,$B3,$C$2:$C$501,"<>",$A$2:$A$501,"<"&$A3)+COUNTIFS($B$1:$B2,$B3,$C$1:$C2,"<>",$A$1:$A2,$A3)+1) | E3: =IF($D3="","",IF(OR($D3=1,AND(Settings!$B$4="Yes",$D3<=Settings!$B$2)),IF(COUNTIFS(Players!$A$2:$A$101,$B3,Players!$B$2:$B$101,"<>")=0,"Add a starting quota",ROUND(SUMIFS(Players!$B$2:$B$101,Players!$A$2:$A$101,$B3),Settings!$B$3)),ROUND(SUMIFS($C$2:$C$501,$B$2:$B$501,$B3,$D$2:$D$501,">="&($D3-Settings!$B$2),$D$2:$D$501,"<"&$D3)/COUNTIFS($B$2:$B$501,$B3,$D$2:$D$501,">="&($D3-Settings!$B$2),$D$2:$D$501,"<"&$D3),Settings!$B$3))) | F3: =IF(ISNUMBER($E3),ROUND($C3-$E3,2),"") | G3: =IF(ISNUMBER($F3),COUNTIFS($A$2:$A$501,$A3,$F$2:$F$501,">"&$F3)+1,"")
D4: =IF(OR($A4="",$B4="",$C4=""),"",COUNTIFS($B$2:$B$501,$B4,$C$2:$C$501,"<>",$A$2:$A$501,"<"&$A4)+COUNTIFS($B$1:$B3,$B4,$C$1:$C3,"<>",$A$1:$A3,$A4)+1) | E4: =IF($D4="","",IF(OR($D4=1,AND(Settings!$B$4="Yes",$D4<=Settings!$B$2)),IF(COUNTIFS(Players!$A$2:$A$101,$B4,Players!$B$2:$B$101,"<>")=0,"Add a starting quota",ROUND(SUMIFS(Players!$B$2:$B$101,Players!$A$2:$A$101,$B4),Settings!$B$3)),ROUND(SUMIFS($C$2:$C$501,$B$2:$B$501,$B4,$D$2:$D$501,">="&($D4-Settings!$B$2),$D$2:$D$501,"<"&$D4)/COUNTIFS($B$2:$B$501,$B4,$D$2:$D$501,">="&($D4-Settings!$B$2),$D$2:$D$501,"<"&$D4),Settings!$B$3))) | F4: =IF(ISNUMBER($E4),ROUND($C4-$E4,2),"") | G4: =IF(ISNUMBER($F4),COUNTIFS($A$2:$A$501,$A4,$F$2:$F$501,">"&$F4)+1,"")
D5: =IF(OR($A5="",$B5="",$C5=""),"",COUNTIFS($B$2:$B$501,$B5,$C$2:$C$501,"<>",$A$2:$A$501,"<"&$A5)+COUNTIFS($B$1:$B4,$B5,$C$1:$C4,"<>",$A$1:$A4,$A5)+1) | E5: =IF($D5="","",IF(OR($D5=1,AND(Settings!$B$4="Yes",$D5<=Settings!$B$2)),IF(COUNTIFS(Players!$A$2:$A$101,$B5,Players!$B$2:$B$101,"<>")=0,"Add a starting quota",ROUND(SUMIFS(Players!$B$2:$B$101,Players!$A$2:$A$101,$B5),Settings!$B$3)),ROUND(SUMIFS($C$2:$C$501,$B$2:$B$501,$B5,$D$2:$D$501,">="&($D5-Settings!$B$2),$D$2:$D$501,"<"&$D5)/COUNTIFS($B$2:$B$501,$B5,$D$2:$D$501,">="&($D5-Settings!$B$2),$D$2:$D$501,"<"&$D5),Settings!$B$3))) | F5: =IF(ISNUMBER($E5),ROUND($C5-$E5,2),"") | G5: =IF(ISNUMBER($F5),COUNTIFS($A$2:$A$501,$A5,$F$2:$F$501,">"&$F5)+1,"")
D6: =IF(OR($A6="",$B6="",$C6=""),"",COUNTIFS($B$2:$B$501,$B6,$C$2:$C$501,"<>",$A$2:$A$501,"<"&$A6)+COUNTIFS($B$1:$B5,$B6,$C$1:$C5,"<>",$A$1:$A5,$A6)+1) | E6: =IF($D6="","",IF(OR($D6=1,AND(Settings!$B$4="Yes",$D6<=Settings!$B$2)),IF(COUNTIFS(Players!$A$2:$A$101,$B6,Players!$B$2:$B$101,"<>")=0,"Add a starting quota",ROUND(SUMIFS(Players!$B$2:$B$101,Players!$A$2:$A$101,$B6),Settings!$B$3)),ROUND(SUMIFS($C$2:$C$501,$B$2:$B$501,$B6,$D$2:$D$501,">="&($D6-Settings!$B$2),$D$2:$D$501,"<"&$D6)/COUNTIFS($B$2:$B$501,$B6,$D$2:$D$501,">="&($D6-Settings!$B$2),$D$2:$D$501,"<"&$D6),Settings!$B$3))) | F6: =IF(ISNUMBER($E6),ROUND($C6-$E6,2),"") | G6: =IF(ISNUMBER($F6),COUNTIFS($A$2:$A$501,$A6,$F$2:$F$501,">"&$F6)+1,"")
D7: =IF(OR($A7="",$B7="",$C7=""),"",COUNTIFS($B$2:$B$501,$B7,$C$2:$C$501,"<>",$A$2:$A$501,"<"&$A7)+COUNTIFS($B$1:$B6,$B7,$C$1:$C6,"<>",$A$1:$A6,$A7)+1) | E7: =IF($D7="","",IF(OR($D7=1,AND(Settings!$B$4="Yes",$D7<=Settings!$B$2)),IF(COUNTIFS(Players!$A$2:$A$101,$B7,Players!$B$2:$B$101,"<>")=0,"Add a starting quota",ROUND(SUMIFS(Players!$B$2:$B$101,Players!$A$2:$A$101,$B7),Settings!$B$3)),ROUND(SUMIFS($C$2:$C$501,$B$2:$B$501,$B7,$D$2:$D$501,">="&($D7-Settings!$B$2),$D$2:$D$501,"<"&$D7)/COUNTIFS($B$2:$B$501,$B7,$D$2:$D$501,">="&($D7-Settings!$B$2),$D$2:$D$501,"<"&$D7),Settings!$B$3))) | F7: =IF(ISNUMBER($E7),ROUND($C7-$E7,2),"") | G7: =IF(ISNUMBER($F7),COUNTIFS($A$2:$A$501,$A7,$F$2:$F$501,">"&$F7)+1,"")
D8: =IF(OR($A8="",$B8="",$C8=""),"",COUNTIFS($B$2:$B$501,$B8,$C$2:$C$501,"<>",$A$2:$A$501,"<"&$A8)+COUNTIFS($B$1:$B7,$B8,$C$1:$C7,"<>",$A$1:$A7,$A8)+1) | E8: =IF($D8="","",IF(OR($D8=1,AND(Settings!$B$4="Yes",$D8<=Settings!$B$2)),IF(COUNTIFS(Players!$A$2:$A$101,$B8,Players!$B$2:$B$101,"<>")=0,"Add a starting quota",ROUND(SUMIFS(Players!$B$2:$B$101,Players!$A$2:$A$101,$B8),Settings!$B$3)),ROUND(SUMIFS($C$2:$C$501,$B$2:$B$501,$B8,$D$2:$D$501,">="&($D8-Settings!$B$2),$D$2:$D$501,"<"&$D8)/COUNTIFS($B$2:$B$501,$B8,$D$2:$D$501,">="&($D8-Settings!$B$2),$D$2:$D$501,"<"&$D8),Settings!$B$3))) | F8: =IF(ISNUMBER($E8),ROUND($C8-$E8,2),"") | G8: =IF(ISNUMBER($F8),COUNTIFS($A$2:$A$501,$A8,$F$2:$F$501,">"&$F8)+1,"")
D9: =IF(OR($A9="",$B9="",$C9=""),"",COUNTIFS($B$2:$B$501,$B9,$C$2:$C$501,"<>",$A$2:$A$501,"<"&$A9)+COUNTIFS($B$1:$B8,$B9,$C$1:$C8,"<>",$A$1:$A8,$A9)+1) | E9: =IF($D9="","",IF(OR($D9=1,AND(Settings!$B$4="Yes",$D9<=Settings!$B$2)),IF(COUNTIFS(Players!$A$2:$A$101,$B9,Players!$B$2:$B$101,"<>")=0,"Add a starting quota",ROUND(SUMIFS(Players!$B$2:$B$101,Players!$A$2:$A$101,$B9),Settings!$B$3)),ROUND(SUMIFS($C$2:$C$501,$B$2:$B$501,$B9,$D$2:$D$501,">="&($D9-Settings!$B$2),$D$2:$D$501,"<"&$D9)/COUNTIFS($B$2:$B$501,$B9,$D$2:$D$501,">="&($D9-Settings!$B$2),$D$2:$D$501,"<"&$D9),Settings!$B$3))) | F9: =IF(ISNUMBER($E9),ROUND($C9-$E9,2),"") | G9: =IF(ISNUMBER($F9),COUNTIFS($A$2:$A$501,$A9,$F$2:$F$501,">"&$F9)+1,"")
D10: =IF(OR($A10="",$B10="",$C10=""),"",COUNTIFS($B$2:$B$501,$B10,$C$2:$C$501,"<>",$A$2:$A$501,"<"&$A10)+COUNTIFS($B$1:$B9,$B10,$C$1:$C9,"<>",$A$1:$A9,$A10)+1) | E10: =IF($D10="","",IF(OR($D10=1,AND(Settings!$B$4="Yes",$D10<=Settings!$B$2)),IF(COUNTIFS(Players!$A$2:$A$101,$B10,Players!$B$2:$B$101,"<>")=0,"Add a starting quota",ROUND(SUMIFS(Players!$B$2:$B$101,Players!$A$2:$A$101,$B10),Settings!$B$3)),ROUND(SUMIFS($C$2:$C$501,$B$2:$B$501,$B10,$D$2:$D$501,">="&($D10-Settings!$B$2),$D$2:$D$501,"<"&$D10)/COUNTIFS($B$2:$B$501,$B10,$D$2:$D$501,">="&($D10-Settings!$B$2),$D$2:$D$501,"<"&$D10),Settings!$B$3))) | F10: =IF(ISNUMBER($E10),ROUND($C10-$E10,2),"") | G10: =IF(ISNUMBER($F10),COUNTIFS($A$2:$A$501,$A10,$F$2:$F$501,">"&$F10)+1,"")
D11: =IF(OR($A11="",$B11="",$C11=""),"",COUNTIFS($B$2:$B$501,$B11,$C$2:$C$501,"<>",$A$2:$A$501,"<"&$A11)+COUNTIFS($B$1:$B10,$B11,$C$1:$C10,"<>",$A$1:$A10,$A11)+1) | E11: =IF($D11="","",IF(OR($D11=1,AND(Settings!$B$4="Yes",$D11<=Settings!$B$2)),IF(COUNTIFS(Players!$A$2:$A$101,$B11,Players!$B$2:$B$101,"<>")=0,"Add a starting quota",ROUND(SUMIFS(Players!$B$2:$B$101,Players!$A$2:$A$101,$B11),Settings!$B$3)),ROUND(SUMIFS($C$2:$C$501,$B$2:$B$501,$B11,$D$2:$D$501,">="&($D11-Settings!$B$2),$D$2:$D$501,"<"&$D11)/COUNTIFS($B$2:$B$501,$B11,$D$2:$D$501,">="&($D11-Settings!$B$2),$D$2:$D$501,"<"&$D11),Settings!$B$3))) | F11: =IF(ISNUMBER($E11),ROUND($C11-$E11,2),"") | G11: =IF(ISNUMBER($F11),COUNTIFS($A$2:$A$501,$A11,$F$2:$F$501,">"&$F11)+1,"")
D12: =IF(OR($A12="",$B12="",$C12=""),"",COUNTIFS($B$2:$B$501,$B12,$C$2:$C$501,"<>",$A$2:$A$501,"<"&$A12)+COUNTIFS($B$1:$B11,$B12,$C$1:$C11,"<>",$A$1:$A11,$A12)+1) | E12: =IF($D12="","",IF(OR($D12=1,AND(Settings!$B$4="Yes",$D12<=Settings!$B$2)),IF(COUNTIFS(Players!$A$2:$A$101,$B12,Players!$B$2:$B$101,"<>")=0,"Add a starting quota",ROUND(SUMIFS(Players!$B$2:$B$101,Players!$A$2:$A$101,$B12),Settings!$B$3)),ROUND(SUMIFS($C$2:$C$501,$B$2:$B$501,$B12,$D$2:$D$501,">="&($D12-Settings!$B$2),$D$2:$D$501,"<"&$D12)/COUNTIFS($B$2:$B$501,$B12,$D$2:$D$501,">="&($D12-Settings!$B$2),$D$2:$D$501,"<"&$D12),Settings!$B$3))) | F12: =IF(ISNUMBER($E12),ROUND($C12-$E12,2),"") | G12: =IF(ISNUMBER($F12),COUNTIFS($A$2:$A$501,$A12,$F$2:$F$501,">"&$F12)+1,"")
D13: =IF(OR($A13="",$B13="",$C13=""),"",COUNTIFS($B$2:$B$501,$B13,$C$2:$C$501,"<>",$A$2:$A$501,"<"&$A13)+COUNTIFS($B$1:$B12,$B13,$C$1:$C12,"<>",$A$1:$A12,$A13)+1) | E13: =IF($D13="","",IF(OR($D13=1,AND(Settings!$B$4="Yes",$D13<=Settings!$B$2)),IF(COUNTIFS(Players!$A$2:$A$101,$B13,Players!$B$2:$B$101,"<>")=0,"Add a starting quota",ROUND(SUMIFS(Players!$B$2:$B$101,Players!$A$2:$A$101,$B13),Settings!$B$3)),ROUND(SUMIFS($C$2:$C$501,$B$2:$B$501,$B13,$D$2:$D$501,">="&($D13-Settings!$B$2),$D$2:$D$501,"<"&$D13)/COUNTIFS($B$2:$B$501,$B13,$D$2:$D$501,">="&($D13-Settings!$B$2),$D$2:$D$501,"<"&$D13),Settings!$B$3))) | F13: =IF(ISNUMBER($E13),ROUND($C13-$E13,2),"") | G13: =IF(ISNUMBER($F13),COUNTIFS($A$2:$A$501,$A13,$F$2:$F$501,">"&$F13)+1,"")
... D501: =IF(OR($A501="",$B501="",$C501=""),"",COUNTIFS($B$2:$B$501,$B501,$C$2:$C$501,"<>",$A$2:$A$501,"<"&$A501)+COUNTIFS($B$1:$B500,$B501,$C$1:$C500,"<>",$A$1:$A500,$A501)+1) | E501: =IF($D501="","",IF(OR($D501=1,AND(Settings!$B$4="Yes",$D501<=Settings!$B$2)),IF(COUNTIFS(Players!$A$2:$A$101,$B501,Players!$B$2:$B$101,"<>")=0,"Add a starting quota",ROUND(SUMIFS(Players!$B$2:$B$101,Players!$A$2:$A$101,$B501),Settings!$B$3)),ROUND(SUMIFS($C$2:$C$501,$B$2:$B$501,$B501,$D$2:$D$501,">="&($D501-Settings!$B$2),$D$2:$D$501,"<"&$D501)/COUNTIFS($B$2:$B$501,$B501,$D$2:$D$501,">="&($D501-Settings!$B$2),$D$2:$D$501,"<"&$D501),Settings!$B$3))) | F501: =IF(ISNUMBER($E501),ROUND($C501-$E501,2),"") | G501: =IF(ISNUMBER($F501),COUNTIFS($A$2:$A$501,$A501,$F$2:$F$501,">"&$F501)+1,"")

Sheet Standings
A1: Place | B1: Player | C1: Rounds played | D1: Total plus/minus | E1: Wins | F1: Current quota
A2: =IF($B2="","",COUNTIF(Players!$F$2:$F$101,">"&$D2)+1) | B2: =IFERROR(INDEX(Players!$A$2:$A$101,MATCH(1,Players!$H$2:$H$101,0)),"") | C2: =IF($B2="","",INDEX(Players!$E$2:$E$101,MATCH(1,Players!$H$2:$H$101,0))) | D2: =IF($B2="","",INDEX(Players!$F$2:$F$101,MATCH(1,Players!$H$2:$H$101,0))) | E2: =IF($B2="","",INDEX(Players!$G$2:$G$101,MATCH(1,Players!$H$2:$H$101,0))) | F2: =IF($B2="","",INDEX(Players!$D$2:$D$101,MATCH(1,Players!$H$2:$H$101,0)))
A3: =IF($B3="","",COUNTIF(Players!$F$2:$F$101,">"&$D3)+1) | B3: =IFERROR(INDEX(Players!$A$2:$A$101,MATCH(2,Players!$H$2:$H$101,0)),"") | C3: =IF($B3="","",INDEX(Players!$E$2:$E$101,MATCH(2,Players!$H$2:$H$101,0))) | D3: =IF($B3="","",INDEX(Players!$F$2:$F$101,MATCH(2,Players!$H$2:$H$101,0))) | E3: =IF($B3="","",INDEX(Players!$G$2:$G$101,MATCH(2,Players!$H$2:$H$101,0))) | F3: =IF($B3="","",INDEX(Players!$D$2:$D$101,MATCH(2,Players!$H$2:$H$101,0)))
A4: =IF($B4="","",COUNTIF(Players!$F$2:$F$101,">"&$D4)+1) | B4: =IFERROR(INDEX(Players!$A$2:$A$101,MATCH(3,Players!$H$2:$H$101,0)),"") | C4: =IF($B4="","",INDEX(Players!$E$2:$E$101,MATCH(3,Players!$H$2:$H$101,0))) | D4: =IF($B4="","",INDEX(Players!$F$2:$F$101,MATCH(3,Players!$H$2:$H$101,0))) | E4: =IF($B4="","",INDEX(Players!$G$2:$G$101,MATCH(3,Players!$H$2:$H$101,0))) | F4: =IF($B4="","",INDEX(Players!$D$2:$D$101,MATCH(3,Players!$H$2:$H$101,0)))
A5: =IF($B5="","",COUNTIF(Players!$F$2:$F$101,">"&$D5)+1) | B5: =IFERROR(INDEX(Players!$A$2:$A$101,MATCH(4,Players!$H$2:$H$101,0)),"") | C5: =IF($B5="","",INDEX(Players!$E$2:$E$101,MATCH(4,Players!$H$2:$H$101,0))) | D5: =IF($B5="","",INDEX(Players!$F$2:$F$101,MATCH(4,Players!$H$2:$H$101,0))) | E5: =IF($B5="","",INDEX(Players!$G$2:$G$101,MATCH(4,Players!$H$2:$H$101,0))) | F5: =IF($B5="","",INDEX(Players!$D$2:$D$101,MATCH(4,Players!$H$2:$H$101,0)))
A6: =IF($B6="","",COUNTIF(Players!$F$2:$F$101,">"&$D6)+1) | B6: =IFERROR(INDEX(Players!$A$2:$A$101,MATCH(5,Players!$H$2:$H$101,0)),"") | C6: =IF($B6="","",INDEX(Players!$E$2:$E$101,MATCH(5,Players!$H$2:$H$101,0))) | D6: =IF($B6="","",INDEX(Players!$F$2:$F$101,MATCH(5,Players!$H$2:$H$101,0))) | E6: =IF($B6="","",INDEX(Players!$G$2:$G$101,MATCH(5,Players!$H$2:$H$101,0))) | F6: =IF($B6="","",INDEX(Players!$D$2:$D$101,MATCH(5,Players!$H$2:$H$101,0)))
A7: =IF($B7="","",COUNTIF(Players!$F$2:$F$101,">"&$D7)+1) | B7: =IFERROR(INDEX(Players!$A$2:$A$101,MATCH(6,Players!$H$2:$H$101,0)),"") | C7: =IF($B7="","",INDEX(Players!$E$2:$E$101,MATCH(6,Players!$H$2:$H$101,0))) | D7: =IF($B7="","",INDEX(Players!$F$2:$F$101,MATCH(6,Players!$H$2:$H$101,0))) | E7: =IF($B7="","",INDEX(Players!$G$2:$G$101,MATCH(6,Players!$H$2:$H$101,0))) | F7: =IF($B7="","",INDEX(Players!$D$2:$D$101,MATCH(6,Players!$H$2:$H$101,0)))
A8: =IF($B8="","",COUNTIF(Players!$F$2:$F$101,">"&$D8)+1) | B8: =IFERROR(INDEX(Players!$A$2:$A$101,MATCH(7,Players!$H$2:$H$101,0)),"") | C8: =IF($B8="","",INDEX(Players!$E$2:$E$101,MATCH(7,Players!$H$2:$H$101,0))) | D8: =IF($B8="","",INDEX(Players!$F$2:$F$101,MATCH(7,Players!$H$2:$H$101,0))) | E8: =IF($B8="","",INDEX(Players!$G$2:$G$101,MATCH(7,Players!$H$2:$H$101,0))) | F8: =IF($B8="","",INDEX(Players!$D$2:$D$101,MATCH(7,Players!$H$2:$H$101,0)))
A9: =IF($B9="","",COUNTIF(Players!$F$2:$F$101,">"&$D9)+1) | B9: =IFERROR(INDEX(Players!$A$2:$A$101,MATCH(8,Players!$H$2:$H$101,0)),"") | C9: =IF($B9="","",INDEX(Players!$E$2:$E$101,MATCH(8,Players!$H$2:$H$101,0))) | D9: =IF($B9="","",INDEX(Players!$F$2:$F$101,MATCH(8,Players!$H$2:$H$101,0))) | E9: =IF($B9="","",INDEX(Players!$G$2:$G$101,MATCH(8,Players!$H$2:$H$101,0))) | F9: =IF($B9="","",INDEX(Players!$D$2:$D$101,MATCH(8,Players!$H$2:$H$101,0)))
A10: =IF($B10="","",COUNTIF(Players!$F$2:$F$101,">"&$D10)+1) | B10: =IFERROR(INDEX(Players!$A$2:$A$101,MATCH(9,Players!$H$2:$H$101,0)),"") | C10: =IF($B10="","",INDEX(Players!$E$2:$E$101,MATCH(9,Players!$H$2:$H$101,0))) | D10: =IF($B10="","",INDEX(Players!$F$2:$F$101,MATCH(9,Players!$H$2:$H$101,0))) | E10: =IF($B10="","",INDEX(Players!$G$2:$G$101,MATCH(9,Players!$H$2:$H$101,0))) | F10: =IF($B10="","",INDEX(Players!$D$2:$D$101,MATCH(9,Players!$H$2:$H$101,0)))
A11: =IF($B11="","",COUNTIF(Players!$F$2:$F$101,">"&$D11)+1) | B11: =IFERROR(INDEX(Players!$A$2:$A$101,MATCH(10,Players!$H$2:$H$101,0)),"") | C11: =IF($B11="","",INDEX(Players!$E$2:$E$101,MATCH(10,Players!$H$2:$H$101,0))) | D11: =IF($B11="","",INDEX(Players!$F$2:$F$101,MATCH(10,Players!$H$2:$H$101,0))) | E11: =IF($B11="","",INDEX(Players!$G$2:$G$101,MATCH(10,Players!$H$2:$H$101,0))) | F11: =IF($B11="","",INDEX(Players!$D$2:$D$101,MATCH(10,Players!$H$2:$H$101,0)))
A12: =IF($B12="","",COUNTIF(Players!$F$2:$F$101,">"&$D12)+1) | B12: =IFERROR(INDEX(Players!$A$2:$A$101,MATCH(11,Players!$H$2:$H$101,0)),"") | C12: =IF($B12="","",INDEX(Players!$E$2:$E$101,MATCH(11,Players!$H$2:$H$101,0))) | D12: =IF($B12="","",INDEX(Players!$F$2:$F$101,MATCH(11,Players!$H$2:$H$101,0))) | E12: =IF($B12="","",INDEX(Players!$G$2:$G$101,MATCH(11,Players!$H$2:$H$101,0))) | F12: =IF($B12="","",INDEX(Players!$D$2:$D$101,MATCH(11,Players!$H$2:$H$101,0)))
A13: =IF($B13="","",COUNTIF(Players!$F$2:$F$101,">"&$D13)+1) | B13: =IFERROR(INDEX(Players!$A$2:$A$101,MATCH(12,Players!$H$2:$H$101,0)),"") | C13: =IF($B13="","",INDEX(Players!$E$2:$E$101,MATCH(12,Players!$H$2:$H$101,0))) | D13: =IF($B13="","",INDEX(Players!$F$2:$F$101,MATCH(12,Players!$H$2:$H$101,0))) | E13: =IF($B13="","",INDEX(Players!$G$2:$G$101,MATCH(12,Players!$H$2:$H$101,0))) | F13: =IF($B13="","",INDEX(Players!$D$2:$D$101,MATCH(12,Players!$H$2:$H$101,0)))
A14: =IF($B14="","",COUNTIF(Players!$F$2:$F$101,">"&$D14)+1) | B14: =IFERROR(INDEX(Players!$A$2:$A$101,MATCH(13,Players!$H$2:$H$101,0)),"") | C14: =IF($B14="","",INDEX(Players!$E$2:$E$101,MATCH(13,Players!$H$2:$H$101,0))) | D14: =IF($B14="","",INDEX(Players!$F$2:$F$101,MATCH(13,Players!$H$2:$H$101,0))) | E14: =IF($B14="","",INDEX(Players!$G$2:$G$101,MATCH(13,Players!$H$2:$H$101,0))) | F14: =IF($B14="","",INDEX(Players!$D$2:$D$101,MATCH(13,Players!$H$2:$H$101,0)))
A15: =IF($B15="","",COUNTIF(Players!$F$2:$F$101,">"&$D15)+1) | B15: =IFERROR(INDEX(Players!$A$2:$A$101,MATCH(14,Players!$H$2:$H$101,0)),"") | C15: =IF($B15="","",INDEX(Players!$E$2:$E$101,MATCH(14,Players!$H$2:$H$101,0))) | D15: =IF($B15="","",INDEX(Players!$F$2:$F$101,MATCH(14,Players!$H$2:$H$101,0))) | E15: =IF($B15="","",INDEX(Players!$G$2:$G$101,MATCH(14,Players!$H$2:$H$101,0))) | F15: =IF($B15="","",INDEX(Players!$D$2:$D$101,MATCH(14,Players!$H$2:$H$101,0)))
A16: =IF($B16="","",COUNTIF(Players!$F$2:$F$101,">"&$D16)+1) | B16: =IFERROR(INDEX(Players!$A$2:$A$101,MATCH(15,Players!$H$2:$H$101,0)),"") | C16: =IF($B16="","",INDEX(Players!$E$2:$E$101,MATCH(15,Players!$H$2:$H$101,0))) | D16: =IF($B16="","",INDEX(Players!$F$2:$F$101,MATCH(15,Players!$H$2:$H$101,0))) | E16: =IF($B16="","",INDEX(Players!$G$2:$G$101,MATCH(15,Players!$H$2:$H$101,0))) | F16: =IF($B16="","",INDEX(Players!$D$2:$D$101,MATCH(15,Players!$H$2:$H$101,0)))
A17: =IF($B17="","",COUNTIF(Players!$F$2:$F$101,">"&$D17)+1) | B17: =IFERROR(INDEX(Players!$A$2:$A$101,MATCH(16,Players!$H$2:$H$101,0)),"") | C17: =IF($B17="","",INDEX(Players!$E$2:$E$101,MATCH(16,Players!$H$2:$H$101,0))) | D17: =IF($B17="","",INDEX(Players!$F$2:$F$101,MATCH(16,Players!$H$2:$H$101,0))) | E17: =IF($B17="","",INDEX(Players!$G$2:$G$101,MATCH(16,Players!$H$2:$H$101,0))) | F17: =IF($B17="","",INDEX(Players!$D$2:$D$101,MATCH(16,Players!$H$2:$H$101,0)))
A18: =IF($B18="","",COUNTIF(Players!$F$2:$F$101,">"&$D18)+1) | B18: =IFERROR(INDEX(Players!$A$2:$A$101,MATCH(17,Players!$H$2:$H$101,0)),"") | C18: =IF($B18="","",INDEX(Players!$E$2:$E$101,MATCH(17,Players!$H$2:$H$101,0))) | D18: =IF($B18="","",INDEX(Players!$F$2:$F$101,MATCH(17,Players!$H$2:$H$101,0))) | E18: =IF($B18="","",INDEX(Players!$G$2:$G$101,MATCH(17,Players!$H$2:$H$101,0))) | F18: =IF($B18="","",INDEX(Players!$D$2:$D$101,MATCH(17,Players!$H$2:$H$101,0)))
A19: =IF($B19="","",COUNTIF(Players!$F$2:$F$101,">"&$D19)+1) | B19: =IFERROR(INDEX(Players!$A$2:$A$101,MATCH(18,Players!$H$2:$H$101,0)),"") | C19: =IF($B19="","",INDEX(Players!$E$2:$E$101,MATCH(18,Players!$H$2:$H$101,0))) | D19: =IF($B19="","",INDEX(Players!$F$2:$F$101,MATCH(18,Players!$H$2:$H$101,0))) | E19: =IF($B19="","",INDEX(Players!$G$2:$G$101,MATCH(18,Players!$H$2:$H$101,0))) | F19: =IF($B19="","",INDEX(Players!$D$2:$D$101,MATCH(18,Players!$H$2:$H$101,0)))
A20: =IF($B20="","",COUNTIF(Players!$F$2:$F$101,">"&$D20)+1) | B20: =IFERROR(INDEX(Players!$A$2:$A$101,MATCH(19,Players!$H$2:$H$101,0)),"") | C20: =IF($B20="","",INDEX(Players!$E$2:$E$101,MATCH(19,Players!$H$2:$H$101,0))) | D20: =IF($B20="","",INDEX(Players!$F$2:$F$101,MATCH(19,Players!$H$2:$H$101,0))) | E20: =IF($B20="","",INDEX(Players!$G$2:$G$101,MATCH(19,Players!$H$2:$H$101,0))) | F20: =IF($B20="","",INDEX(Players!$D$2:$D$101,MATCH(19,Players!$H$2:$H$101,0)))
A21: =IF($B21="","",COUNTIF(Players!$F$2:$F$101,">"&$D21)+1) | B21: =IFERROR(INDEX(Players!$A$2:$A$101,MATCH(20,Players!$H$2:$H$101,0)),"") | C21: =IF($B21="","",INDEX(Players!$E$2:$E$101,MATCH(20,Players!$H$2:$H$101,0))) | D21: =IF($B21="","",INDEX(Players!$F$2:$F$101,MATCH(20,Players!$H$2:$H$101,0))) | E21: =IF($B21="","",INDEX(Players!$G$2:$G$101,MATCH(20,Players!$H$2:$H$101,0))) | F21: =IF($B21="","",INDEX(Players!$D$2:$D$101,MATCH(20,Players!$H$2:$H$101,0)))
A22: =IF($B22="","",COUNTIF(Players!$F$2:$F$101,">"&$D22)+1) | B22: =IFERROR(INDEX(Players!$A$2:$A$101,MATCH(21,Players!$H$2:$H$101,0)),"") | C22: =IF($B22="","",INDEX(Players!$E$2:$E$101,MATCH(21,Players!$H$2:$H$101,0))) | D22: =IF($B22="","",INDEX(Players!$F$2:$F$101,MATCH(21,Players!$H$2:$H$101,0))) | E22: =IF($B22="","",INDEX(Players!$G$2:$G$101,MATCH(21,Players!$H$2:$H$101,0))) | F22: =IF($B22="","",INDEX(Players!$D$2:$D$101,MATCH(21,Players!$H$2:$H$101,0)))
A23: =IF($B23="","",COUNTIF(Players!$F$2:$F$101,">"&$D23)+1) | B23: =IFERROR(INDEX(Players!$A$2:$A$101,MATCH(22,Players!$H$2:$H$101,0)),"") | C23: =IF($B23="","",INDEX(Players!$E$2:$E$101,MATCH(22,Players!$H$2:$H$101,0))) | D23: =IF($B23="","",INDEX(Players!$F$2:$F$101,MATCH(22,Players!$H$2:$H$101,0))) | E23: =IF($B23="","",INDEX(Players!$G$2:$G$101,MATCH(22,Players!$H$2:$H$101,0))) | F23: =IF($B23="","",INDEX(Players!$D$2:$D$101,MATCH(22,Players!$H$2:$H$101,0)))
A24: =IF($B24="","",COUNTIF(Players!$F$2:$F$101,">"&$D24)+1) | B24: =IFERROR(INDEX(Players!$A$2:$A$101,MATCH(23,Players!$H$2:$H$101,0)),"") | C24: =IF($B24="","",INDEX(Players!$E$2:$E$101,MATCH(23,Players!$H$2:$H$101,0))) | D24: =IF($B24="","",INDEX(Players!$F$2:$F$101,MATCH(23,Players!$H$2:$H$101,0))) | E24: =IF($B24="","",INDEX(Players!$G$2:$G$101,MATCH(23,Players!$H$2:$H$101,0))) | F24: =IF($B24="","",INDEX(Players!$D$2:$D$101,MATCH(23,Players!$H$2:$H$101,0)))
A25: =IF($B25="","",COUNTIF(Players!$F$2:$F$101,">"&$D25)+1) | B25: =IFERROR(INDEX(Players!$A$2:$A$101,MATCH(24,Players!$H$2:$H$101,0)),"") | C25: =IF($B25="","",INDEX(Players!$E$2:$E$101,MATCH(24,Players!$H$2:$H$101,0))) | D25: =IF($B25="","",INDEX(Players!$F$2:$F$101,MATCH(24,Players!$H$2:$H$101,0))) | E25: =IF($B25="","",INDEX(Players!$G$2:$G$101,MATCH(24,Players!$H$2:$H$101,0))) | F25: =IF($B25="","",INDEX(Players!$D$2:$D$101,MATCH(24,Players!$H$2:$H$101,0)))
A26: =IF($B26="","",COUNTIF(Players!$F$2:$F$101,">"&$D26)+1) | B26: =IFERROR(INDEX(Players!$A$2:$A$101,MATCH(25,Players!$H$2:$H$101,0)),"") | C26: =IF($B26="","",INDEX(Players!$E$2:$E$101,MATCH(25,Players!$H$2:$H$101,0))) | D26: =IF($B26="","",INDEX(Players!$F$2:$F$101,MATCH(25,Players!$H$2:$H$101,0))) | E26: =IF($B26="","",INDEX(Players!$G$2:$G$101,MATCH(25,Players!$H$2:$H$101,0))) | F26: =IF($B26="","",INDEX(Players!$D$2:$D$101,MATCH(25,Players!$H$2:$H$101,0)))
A27: =IF($B27="","",COUNTIF(Players!$F$2:$F$101,">"&$D27)+1) | B27: =IFERROR(INDEX(Players!$A$2:$A$101,MATCH(26,Players!$H$2:$H$101,0)),"") | C27: =IF($B27="","",INDEX(Players!$E$2:$E$101,MATCH(26,Players!$H$2:$H$101,0))) | D27: =IF($B27="","",INDEX(Players!$F$2:$F$101,MATCH(26,Players!$H$2:$H$101,0))) | E27: =IF($B27="","",INDEX(Players!$G$2:$G$101,MATCH(26,Players!$H$2:$H$101,0))) | F27: =IF($B27="","",INDEX(Players!$D$2:$D$101,MATCH(26,Players!$H$2:$H$101,0)))
A28: =IF($B28="","",COUNTIF(Players!$F$2:$F$101,">"&$D28)+1) | B28: =IFERROR(INDEX(Players!$A$2:$A$101,MATCH(27,Players!$H$2:$H$101,0)),"") | C28: =IF($B28="","",INDEX(Players!$E$2:$E$101,MATCH(27,Players!$H$2:$H$101,0))) | D28: =IF($B28="","",INDEX(Players!$F$2:$F$101,MATCH(27,Players!$H$2:$H$101,0))) | E28: =IF($B28="","",INDEX(Players!$G$2:$G$101,MATCH(27,Players!$H$2:$H$101,0))) | F28: =IF($B28="","",INDEX(Players!$D$2:$D$101,MATCH(27,Players!$H$2:$H$101,0)))
A29: =IF($B29="","",COUNTIF(Players!$F$2:$F$101,">"&$D29)+1) | B29: =IFERROR(INDEX(Players!$A$2:$A$101,MATCH(28,Players!$H$2:$H$101,0)),"") | C29: =IF($B29="","",INDEX(Players!$E$2:$E$101,MATCH(28,Players!$H$2:$H$101,0))) | D29: =IF($B29="","",INDEX(Players!$F$2:$F$101,MATCH(28,Players!$H$2:$H$101,0))) | E29: =IF($B29="","",INDEX(Players!$G$2:$G$101,MATCH(28,Players!$H$2:$H$101,0))) | F29: =IF($B29="","",INDEX(Players!$D$2:$D$101,MATCH(28,Players!$H$2:$H$101,0)))
A30: =IF($B30="","",COUNTIF(Players!$F$2:$F$101,">"&$D30)+1) | B30: =IFERROR(INDEX(Players!$A$2:$A$101,MATCH(29,Players!$H$2:$H$101,0)),"") | C30: =IF($B30="","",INDEX(Players!$E$2:$E$101,MATCH(29,Players!$H$2:$H$101,0))) | D30: =IF($B30="","",INDEX(Players!$F$2:$F$101,MATCH(29,Players!$H$2:$H$101,0))) | E30: =IF($B30="","",INDEX(Players!$G$2:$G$101,MATCH(29,Players!$H$2:$H$101,0))) | F30: =IF($B30="","",INDEX(Players!$D$2:$D$101,MATCH(29,Players!$H$2:$H$101,0)))
A31: =IF($B31="","",COUNTIF(Players!$F$2:$F$101,">"&$D31)+1) | B31: =IFERROR(INDEX(Players!$A$2:$A$101,MATCH(30,Players!$H$2:$H$101,0)),"") | C31: =IF($B31="","",INDEX(Players!$E$2:$E$101,MATCH(30,Players!$H$2:$H$101,0))) | D31: =IF($B31="","",INDEX(Players!$F$2:$F$101,MATCH(30,Players!$H$2:$H$101,0))) | E31: =IF($B31="","",INDEX(Players!$G$2:$G$101,MATCH(30,Players!$H$2:$H$101,0))) | F31: =IF($B31="","",INDEX(Players!$D$2:$D$101,MATCH(30,Players!$H$2:$H$101,0)))
A32: =IF($B32="","",COUNTIF(Players!$F$2:$F$101,">"&$D32)+1) | B32: =IFERROR(INDEX(Players!$A$2:$A$101,MATCH(31,Players!$H$2:$H$101,0)),"") | C32: =IF($B32="","",INDEX(Players!$E$2:$E$101,MATCH(31,Players!$H$2:$H$101,0))) | D32: =IF($B32="","",INDEX(Players!$F$2:$F$101,MATCH(31,Players!$H$2:$H$101,0))) | E32: =IF($B32="","",INDEX(Players!$G$2:$G$101,MATCH(31,Players!$H$2:$H$101,0))) | F32: =IF($B32="","",INDEX(Players!$D$2:$D$101,MATCH(31,Players!$H$2:$H$101,0)))
A33: =IF($B33="","",COUNTIF(Players!$F$2:$F$101,">"&$D33)+1) | B33: =IFERROR(INDEX(Players!$A$2:$A$101,MATCH(32,Players!$H$2:$H$101,0)),"") | C33: =IF($B33="","",INDEX(Players!$E$2:$E$101,MATCH(32,Players!$H$2:$H$101,0))) | D33: =IF($B33="","",INDEX(Players!$F$2:$F$101,MATCH(32,Players!$H$2:$H$101,0))) | E33: =IF($B33="","",INDEX(Players!$G$2:$G$101,MATCH(32,Players!$H$2:$H$101,0))) | F33: =IF($B33="","",INDEX(Players!$D$2:$D$101,MATCH(32,Players!$H$2:$H$101,0)))
A34: =IF($B34="","",COUNTIF(Players!$F$2:$F$101,">"&$D34)+1) | B34: =IFERROR(INDEX(Players!$A$2:$A$101,MATCH(33,Players!$H$2:$H$101,0)),"") | C34: =IF($B34="","",INDEX(Players!$E$2:$E$101,MATCH(33,Players!$H$2:$H$101,0))) | D34: =IF($B34="","",INDEX(Players!$F$2:$F$101,MATCH(33,Players!$H$2:$H$101,0))) | E34: =IF($B34="","",INDEX(Players!$G$2:$G$101,MATCH(33,Players!$H$2:$H$101,0))) | F34: =IF($B34="","",INDEX(Players!$D$2:$D$101,MATCH(33,Players!$H$2:$H$101,0)))
A35: =IF($B35="","",COUNTIF(Players!$F$2:$F$101,">"&$D35)+1) | B35: =IFERROR(INDEX(Players!$A$2:$A$101,MATCH(34,Players!$H$2:$H$101,0)),"") | C35: =IF($B35="","",INDEX(Players!$E$2:$E$101,MATCH(34,Players!$H$2:$H$101,0))) | D35: =IF($B35="","",INDEX(Players!$F$2:$F$101,MATCH(34,Players!$H$2:$H$101,0))) | E35: =IF($B35="","",INDEX(Players!$G$2:$G$101,MATCH(34,Players!$H$2:$H$101,0))) | F35: =IF($B35="","",INDEX(Players!$D$2:$D$101,MATCH(34,Players!$H$2:$H$101,0)))
A36: =IF($B36="","",COUNTIF(Players!$F$2:$F$101,">"&$D36)+1) | B36: =IFERROR(INDEX(Players!$A$2:$A$101,MATCH(35,Players!$H$2:$H$101,0)),"") | C36: =IF($B36="","",INDEX(Players!$E$2:$E$101,MATCH(35,Players!$H$2:$H$101,0))) | D36: =IF($B36="","",INDEX(Players!$F$2:$F$101,MATCH(35,Players!$H$2:$H$101,0))) | E36: =IF($B36="","",INDEX(Players!$G$2:$G$101,MATCH(35,Players!$H$2:$H$101,0))) | F36: =IF($B36="","",INDEX(Players!$D$2:$D$101,MATCH(35,Players!$H$2:$H$101,0)))
A37: =IF($B37="","",COUNTIF(Players!$F$2:$F$101,">"&$D37)+1) | B37: =IFERROR(INDEX(Players!$A$2:$A$101,MATCH(36,Players!$H$2:$H$101,0)),"") | C37: =IF($B37="","",INDEX(Players!$E$2:$E$101,MATCH(36,Players!$H$2:$H$101,0))) | D37: =IF($B37="","",INDEX(Players!$F$2:$F$101,MATCH(36,Players!$H$2:$H$101,0))) | E37: =IF($B37="","",INDEX(Players!$G$2:$G$101,MATCH(36,Players!$H$2:$H$101,0))) | F37: =IF($B37="","",INDEX(Players!$D$2:$D$101,MATCH(36,Players!$H$2:$H$101,0)))
A38: =IF($B38="","",COUNTIF(Players!$F$2:$F$101,">"&$D38)+1) | B38: =IFERROR(INDEX(Players!$A$2:$A$101,MATCH(37,Players!$H$2:$H$101,0)),"") | C38: =IF($B38="","",INDEX(Players!$E$2:$E$101,MATCH(37,Players!$H$2:$H$101,0))) | D38: =IF($B38="","",INDEX(Players!$F$2:$F$101,MATCH(37,Players!$H$2:$H$101,0))) | E38: =IF($B38="","",INDEX(Players!$G$2:$G$101,MATCH(37,Players!$H$2:$H$101,0))) | F38: =IF($B38="","",INDEX(Players!$D$2:$D$101,MATCH(37,Players!$H$2:$H$101,0)))
A39: =IF($B39="","",COUNTIF(Players!$F$2:$F$101,">"&$D39)+1) | B39: =IFERROR(INDEX(Players!$A$2:$A$101,MATCH(38,Players!$H$2:$H$101,0)),"") | C39: =IF($B39="","",INDEX(Players!$E$2:$E$101,MATCH(38,Players!$H$2:$H$101,0))) | D39: =IF($B39="","",INDEX(Players!$F$2:$F$101,MATCH(38,Players!$H$2:$H$101,0))) | E39: =IF($B39="","",INDEX(Players!$G$2:$G$101,MATCH(38,Players!$H$2:$H$101,0))) | F39: =IF($B39="","",INDEX(Players!$D$2:$D$101,MATCH(38,Players!$H$2:$H$101,0)))
A40: =IF($B40="","",COUNTIF(Players!$F$2:$F$101,">"&$D40)+1) | B40: =IFERROR(INDEX(Players!$A$2:$A$101,MATCH(39,Players!$H$2:$H$101,0)),"") | C40: =IF($B40="","",INDEX(Players!$E$2:$E$101,MATCH(39,Players!$H$2:$H$101,0))) | D40: =IF($B40="","",INDEX(Players!$F$2:$F$101,MATCH(39,Players!$H$2:$H$101,0))) | E40: =IF($B40="","",INDEX(Players!$G$2:$G$101,MATCH(39,Players!$H$2:$H$101,0))) | F40: =IF($B40="","",INDEX(Players!$D$2:$D$101,MATCH(39,Players!$H$2:$H$101,0)))
A41: =IF($B41="","",COUNTIF(Players!$F$2:$F$101,">"&$D41)+1) | B41: =IFERROR(INDEX(Players!$A$2:$A$101,MATCH(40,Players!$H$2:$H$101,0)),"") | C41: =IF($B41="","",INDEX(Players!$E$2:$E$101,MATCH(40,Players!$H$2:$H$101,0))) | D41: =IF($B41="","",INDEX(Players!$F$2:$F$101,MATCH(40,Players!$H$2:$H$101,0))) | E41: =IF($B41="","",INDEX(Players!$G$2:$G$101,MATCH(40,Players!$H$2:$H$101,0))) | F41: =IF($B41="","",INDEX(Players!$D$2:$D$101,MATCH(40,Players!$H$2:$H$101,0)))
A42: =IF($B42="","",COUNTIF(Players!$F$2:$F$101,">"&$D42)+1) | B42: =IFERROR(INDEX(Players!$A$2:$A$101,MATCH(41,Players!$H$2:$H$101,0)),"") | C42: =IF($B42="","",INDEX(Players!$E$2:$E$101,MATCH(41,Players!$H$2:$H$101,0))) | D42: =IF($B42="","",INDEX(Players!$F$2:$F$101,MATCH(41,Players!$H$2:$H$101,0))) | E42: =IF($B42="","",INDEX(Players!$G$2:$G$101,MATCH(41,Players!$H$2:$H$101,0))) | F42: =IF($B42="","",INDEX(Players!$D$2:$D$101,MATCH(41,Players!$H$2:$H$101,0)))
A43: =IF($B43="","",COUNTIF(Players!$F$2:$F$101,">"&$D43)+1) | B43: =IFERROR(INDEX(Players!$A$2:$A$101,MATCH(42,Players!$H$2:$H$101,0)),"") | C43: =IF($B43="","",INDEX(Players!$E$2:$E$101,MATCH(42,Players!$H$2:$H$101,0))) | D43: =IF($B43="","",INDEX(Players!$F$2:$F$101,MATCH(42,Players!$H$2:$H$101,0))) | E43: =IF($B43="","",INDEX(Players!$G$2:$G$101,MATCH(42,Players!$H$2:$H$101,0))) | F43: =IF($B43="","",INDEX(Players!$D$2:$D$101,MATCH(42,Players!$H$2:$H$101,0)))
A44: =IF($B44="","",COUNTIF(Players!$F$2:$F$101,">"&$D44)+1) | B44: =IFERROR(INDEX(Players!$A$2:$A$101,MATCH(43,Players!$H$2:$H$101,0)),"") | C44: =IF($B44="","",INDEX(Players!$E$2:$E$101,MATCH(43,Players!$H$2:$H$101,0))) | D44: =IF($B44="","",INDEX(Players!$F$2:$F$101,MATCH(43,Players!$H$2:$H$101,0))) | E44: =IF($B44="","",INDEX(Players!$G$2:$G$101,MATCH(43,Players!$H$2:$H$101,0))) | F44: =IF($B44="","",INDEX(Players!$D$2:$D$101,MATCH(43,Players!$H$2:$H$101,0)))
A45: =IF($B45="","",COUNTIF(Players!$F$2:$F$101,">"&$D45)+1) | B45: =IFERROR(INDEX(Players!$A$2:$A$101,MATCH(44,Players!$H$2:$H$101,0)),"") | C45: =IF($B45="","",INDEX(Players!$E$2:$E$101,MATCH(44,Players!$H$2:$H$101,0))) | D45: =IF($B45="","",INDEX(Players!$F$2:$F$101,MATCH(44,Players!$H$2:$H$101,0))) | E45: =IF($B45="","",INDEX(Players!$G$2:$G$101,MATCH(44,Players!$H$2:$H$101,0))) | F45: =IF($B45="","",INDEX(Players!$D$2:$D$101,MATCH(44,Players!$H$2:$H$101,0)))
A46: =IF($B46="","",COUNTIF(Players!$F$2:$F$101,">"&$D46)+1) | B46: =IFERROR(INDEX(Players!$A$2:$A$101,MATCH(45,Players!$H$2:$H$101,0)),"") | C46: =IF($B46="","",INDEX(Players!$E$2:$E$101,MATCH(45,Players!$H$2:$H$101,0))) | D46: =IF($B46="","",INDEX(Players!$F$2:$F$101,MATCH(45,Players!$H$2:$H$101,0))) | E46: =IF($B46="","",INDEX(Players!$G$2:$G$101,MATCH(45,Players!$H$2:$H$101,0))) | F46: =IF($B46="","",INDEX(Players!$D$2:$D$101,MATCH(45,Players!$H$2:$H$101,0)))
A47: =IF($B47="","",COUNTIF(Players!$F$2:$F$101,">"&$D47)+1) | B47: =IFERROR(INDEX(Players!$A$2:$A$101,MATCH(46,Players!$H$2:$H$101,0)),"") | C47: =IF($B47="","",INDEX(Players!$E$2:$E$101,MATCH(46,Players!$H$2:$H$101,0))) | D47: =IF($B47="","",INDEX(Players!$F$2:$F$101,MATCH(46,Players!$H$2:$H$101,0))) | E47: =IF($B47="","",INDEX(Players!$G$2:$G$101,MATCH(46,Players!$H$2:$H$101,0))) | F47: =IF($B47="","",INDEX(Players!$D$2:$D$101,MATCH(46,Players!$H$2:$H$101,0)))
A48: =IF($B48="","",COUNTIF(Players!$F$2:$F$101,">"&$D48)+1) | B48: =IFERROR(INDEX(Players!$A$2:$A$101,MATCH(47,Players!$H$2:$H$101,0)),"") | C48: =IF($B48="","",INDEX(Players!$E$2:$E$101,MATCH(47,Players!$H$2:$H$101,0))) | D48: =IF($B48="","",INDEX(Players!$F$2:$F$101,MATCH(47,Players!$H$2:$H$101,0))) | E48: =IF($B48="","",INDEX(Players!$G$2:$G$101,MATCH(47,Players!$H$2:$H$101,0))) | F48: =IF($B48="","",INDEX(Players!$D$2:$D$101,MATCH(47,Players!$H$2:$H$101,0)))
A49: =IF($B49="","",COUNTIF(Players!$F$2:$F$101,">"&$D49)+1) | B49: =IFERROR(INDEX(Players!$A$2:$A$101,MATCH(48,Players!$H$2:$H$101,0)),"") | C49: =IF($B49="","",INDEX(Players!$E$2:$E$101,MATCH(48,Players!$H$2:$H$101,0))) | D49: =IF($B49="","",INDEX(Players!$F$2:$F$101,MATCH(48,Players!$H$2:$H$101,0))) | E49: =IF($B49="","",INDEX(Players!$G$2:$G$101,MATCH(48,Players!$H$2:$H$101,0))) | F49: =IF($B49="","",INDEX(Players!$D$2:$D$101,MATCH(48,Players!$H$2:$H$101,0)))
A50: =IF($B50="","",COUNTIF(Players!$F$2:$F$101,">"&$D50)+1) | B50: =IFERROR(INDEX(Players!$A$2:$A$101,MATCH(49,Players!$H$2:$H$101,0)),"") | C50: =IF($B50="","",INDEX(Players!$E$2:$E$101,MATCH(49,Players!$H$2:$H$101,0))) | D50: =IF($B50="","",INDEX(Players!$F$2:$F$101,MATCH(49,Players!$H$2:$H$101,0))) | E50: =IF($B50="","",INDEX(Players!$G$2:$G$101,MATCH(49,Players!$H$2:$H$101,0))) | F50: =IF($B50="","",INDEX(Players!$D$2:$D$101,MATCH(49,Players!$H$2:$H$101,0)))
A51: =IF($B51="","",COUNTIF(Players!$F$2:$F$101,">"&$D51)+1) | B51: =IFERROR(INDEX(Players!$A$2:$A$101,MATCH(50,Players!$H$2:$H$101,0)),"") | C51: =IF($B51="","",INDEX(Players!$E$2:$E$101,MATCH(50,Players!$H$2:$H$101,0))) | D51: =IF($B51="","",INDEX(Players!$F$2:$F$101,MATCH(50,Players!$H$2:$H$101,0))) | E51: =IF($B51="","",INDEX(Players!$G$2:$G$101,MATCH(50,Players!$H$2:$H$101,0))) | F51: =IF($B51="","",INDEX(Players!$D$2:$D$101,MATCH(50,Players!$H$2:$H$101,0)))
A52: =IF($B52="","",COUNTIF(Players!$F$2:$F$101,">"&$D52)+1) | B52: =IFERROR(INDEX(Players!$A$2:$A$101,MATCH(51,Players!$H$2:$H$101,0)),"") | C52: =IF($B52="","",INDEX(Players!$E$2:$E$101,MATCH(51,Players!$H$2:$H$101,0))) | D52: =IF($B52="","",INDEX(Players!$F$2:$F$101,MATCH(51,Players!$H$2:$H$101,0))) | E52: =IF($B52="","",INDEX(Players!$G$2:$G$101,MATCH(51,Players!$H$2:$H$101,0))) | F52: =IF($B52="","",INDEX(Players!$D$2:$D$101,MATCH(51,Players!$H$2:$H$101,0)))
A53: =IF($B53="","",COUNTIF(Players!$F$2:$F$101,">"&$D53)+1) | B53: =IFERROR(INDEX(Players!$A$2:$A$101,MATCH(52,Players!$H$2:$H$101,0)),"") | C53: =IF($B53="","",INDEX(Players!$E$2:$E$101,MATCH(52,Players!$H$2:$H$101,0))) | D53: =IF($B53="","",INDEX(Players!$F$2:$F$101,MATCH(52,Players!$H$2:$H$101,0))) | E53: =IF($B53="","",INDEX(Players!$G$2:$G$101,MATCH(52,Players!$H$2:$H$101,0))) | F53: =IF($B53="","",INDEX(Players!$D$2:$D$101,MATCH(52,Players!$H$2:$H$101,0)))
A54: =IF($B54="","",COUNTIF(Players!$F$2:$F$101,">"&$D54)+1) | B54: =IFERROR(INDEX(Players!$A$2:$A$101,MATCH(53,Players!$H$2:$H$101,0)),"") | C54: =IF($B54="","",INDEX(Players!$E$2:$E$101,MATCH(53,Players!$H$2:$H$101,0))) | D54: =IF($B54="","",INDEX(Players!$F$2:$F$101,MATCH(53,Players!$H$2:$H$101,0))) | E54: =IF($B54="","",INDEX(Players!$G$2:$G$101,MATCH(53,Players!$H$2:$H$101,0))) | F54: =IF($B54="","",INDEX(Players!$D$2:$D$101,MATCH(53,Players!$H$2:$H$101,0)))
A55: =IF($B55="","",COUNTIF(Players!$F$2:$F$101,">"&$D55)+1) | B55: =IFERROR(INDEX(Players!$A$2:$A$101,MATCH(54,Players!$H$2:$H$101,0)),"") | C55: =IF($B55="","",INDEX(Players!$E$2:$E$101,MATCH(54,Players!$H$2:$H$101,0))) | D55: =IF($B55="","",INDEX(Players!$F$2:$F$101,MATCH(54,Players!$H$2:$H$101,0))) | E55: =IF($B55="","",INDEX(Players!$G$2:$G$101,MATCH(54,Players!$H$2:$H$101,0))) | F55: =IF($B55="","",INDEX(Players!$D$2:$D$101,MATCH(54,Players!$H$2:$H$101,0)))
A56: =IF($B56="","",COUNTIF(Players!$F$2:$F$101,">"&$D56)+1) | B56: =IFERROR(INDEX(Players!$A$2:$A$101,MATCH(55,Players!$H$2:$H$101,0)),"") | C56: =IF($B56="","",INDEX(Players!$E$2:$E$101,MATCH(55,Players!$H$2:$H$101,0))) | D56: =IF($B56="","",INDEX(Players!$F$2:$F$101,MATCH(55,Players!$H$2:$H$101,0))) | E56: =IF($B56="","",INDEX(Players!$G$2:$G$101,MATCH(55,Players!$H$2:$H$101,0))) | F56: =IF($B56="","",INDEX(Players!$D$2:$D$101,MATCH(55,Players!$H$2:$H$101,0)))
A57: =IF($B57="","",COUNTIF(Players!$F$2:$F$101,">"&$D57)+1) | B57: =IFERROR(INDEX(Players!$A$2:$A$101,MATCH(56,Players!$H$2:$H$101,0)),"") | C57: =IF($B57="","",INDEX(Players!$E$2:$E$101,MATCH(56,Players!$H$2:$H$101,0))) | D57: =IF($B57="","",INDEX(Players!$F$2:$F$101,MATCH(56,Players!$H$2:$H$101,0))) | E57: =IF($B57="","",INDEX(Players!$G$2:$G$101,MATCH(56,Players!$H$2:$H$101,0))) | F57: =IF($B57="","",INDEX(Players!$D$2:$D$101,MATCH(56,Players!$H$2:$H$101,0)))
A58: =IF($B58="","",COUNTIF(Players!$F$2:$F$101,">"&$D58)+1) | B58: =IFERROR(INDEX(Players!$A$2:$A$101,MATCH(57,Players!$H$2:$H$101,0)),"") | C58: =IF($B58="","",INDEX(Players!$E$2:$E$101,MATCH(57,Players!$H$2:$H$101,0))) | D58: =IF($B58="","",INDEX(Players!$F$2:$F$101,MATCH(57,Players!$H$2:$H$101,0))) | E58: =IF($B58="","",INDEX(Players!$G$2:$G$101,MATCH(57,Players!$H$2:$H$101,0))) | F58: =IF($B58="","",INDEX(Players!$D$2:$D$101,MATCH(57,Players!$H$2:$H$101,0)))
A59: =IF($B59="","",COUNTIF(Players!$F$2:$F$101,">"&$D59)+1) | B59: =IFERROR(INDEX(Players!$A$2:$A$101,MATCH(58,Players!$H$2:$H$101,0)),"") | C59: =IF($B59="","",INDEX(Players!$E$2:$E$101,MATCH(58,Players!$H$2:$H$101,0))) | D59: =IF($B59="","",INDEX(Players!$F$2:$F$101,MATCH(58,Players!$H$2:$H$101,0))) | E59: =IF($B59="","",INDEX(Players!$G$2:$G$101,MATCH(58,Players!$H$2:$H$101,0))) | F59: =IF($B59="","",INDEX(Players!$D$2:$D$101,MATCH(58,Players!$H$2:$H$101,0)))
A60: =IF($B60="","",COUNTIF(Players!$F$2:$F$101,">"&$D60)+1) | B60: =IFERROR(INDEX(Players!$A$2:$A$101,MATCH(59,Players!$H$2:$H$101,0)),"") | C60: =IF($B60="","",INDEX(Players!$E$2:$E$101,MATCH(59,Players!$H$2:$H$101,0))) | D60: =IF($B60="","",INDEX(Players!$F$2:$F$101,MATCH(59,Players!$H$2:$H$101,0))) | E60: =IF($B60="","",INDEX(Players!$G$2:$G$101,MATCH(59,Players!$H$2:$H$101,0))) | F60: =IF($B60="","",INDEX(Players!$D$2:$D$101,MATCH(59,Players!$H$2:$H$101,0)))
A61: =IF($B61="","",COUNTIF(Players!$F$2:$F$101,">"&$D61)+1) | B61: =IFERROR(INDEX(Players!$A$2:$A$101,MATCH(60,Players!$H$2:$H$101,0)),"") | C61: =IF($B61="","",INDEX(Players!$E$2:$E$101,MATCH(60,Players!$H$2:$H$101,0))) | D61: =IF($B61="","",INDEX(Players!$F$2:$F$101,MATCH(60,Players!$H$2:$H$101,0))) | E61: =IF($B61="","",INDEX(Players!$G$2:$G$101,MATCH(60,Players!$H$2:$H$101,0))) | F61: =IF($B61="","",INDEX(Players!$D$2:$D$101,MATCH(60,Players!$H$2:$H$101,0)))
A62: =IF($B62="","",COUNTIF(Players!$F$2:$F$101,">"&$D62)+1) | B62: =IFERROR(INDEX(Players!$A$2:$A$101,MATCH(61,Players!$H$2:$H$101,0)),"") | C62: =IF($B62="","",INDEX(Players!$E$2:$E$101,MATCH(61,Players!$H$2:$H$101,0))) | D62: =IF($B62="","",INDEX(Players!$F$2:$F$101,MATCH(61,Players!$H$2:$H$101,0))) | E62: =IF($B62="","",INDEX(Players!$G$2:$G$101,MATCH(61,Players!$H$2:$H$101,0))) | F62: =IF($B62="","",INDEX(Players!$D$2:$D$101,MATCH(61,Players!$H$2:$H$101,0)))
A63: =IF($B63="","",COUNTIF(Players!$F$2:$F$101,">"&$D63)+1) | B63: =IFERROR(INDEX(Players!$A$2:$A$101,MATCH(62,Players!$H$2:$H$101,0)),"") | C63: =IF($B63="","",INDEX(Players!$E$2:$E$101,MATCH(62,Players!$H$2:$H$101,0))) | D63: =IF($B63="","",INDEX(Players!$F$2:$F$101,MATCH(62,Players!$H$2:$H$101,0))) | E63: =IF($B63="","",INDEX(Players!$G$2:$G$101,MATCH(62,Players!$H$2:$H$101,0))) | F63: =IF($B63="","",INDEX(Players!$D$2:$D$101,MATCH(62,Players!$H$2:$H$101,0)))
A64: =IF($B64="","",COUNTIF(Players!$F$2:$F$101,">"&$D64)+1) | B64: =IFERROR(INDEX(Players!$A$2:$A$101,MATCH(63,Players!$H$2:$H$101,0)),"") | C64: =IF($B64="","",INDEX(Players!$E$2:$E$101,MATCH(63,Players!$H$2:$H$101,0))) | D64: =IF($B64="","",INDEX(Players!$F$2:$F$101,MATCH(63,Players!$H$2:$H$101,0))) | E64: =IF($B64="","",INDEX(Players!$G$2:$G$101,MATCH(63,Players!$H$2:$H$101,0))) | F64: =IF($B64="","",INDEX(Players!$D$2:$D$101,MATCH(63,Players!$H$2:$H$101,0)))
A65: =IF($B65="","",COUNTIF(Players!$F$2:$F$101,">"&$D65)+1) | B65: =IFERROR(INDEX(Players!$A$2:$A$101,MATCH(64,Players!$H$2:$H$101,0)),"") | C65: =IF($B65="","",INDEX(Players!$E$2:$E$101,MATCH(64,Players!$H$2:$H$101,0))) | D65: =IF($B65="","",INDEX(Players!$F$2:$F$101,MATCH(64,Players!$H$2:$H$101,0))) | E65: =IF($B65="","",INDEX(Players!$G$2:$G$101,MATCH(64,Players!$H$2:$H$101,0))) | F65: =IF($B65="","",INDEX(Players!$D$2:$D$101,MATCH(64,Players!$H$2:$H$101,0)))
A66: =IF($B66="","",COUNTIF(Players!$F$2:$F$101,">"&$D66)+1) | B66: =IFERROR(INDEX(Players!$A$2:$A$101,MATCH(65,Players!$H$2:$H$101,0)),"") | C66: =IF($B66="","",INDEX(Players!$E$2:$E$101,MATCH(65,Players!$H$2:$H$101,0))) | D66: =IF($B66="","",INDEX(Players!$F$2:$F$101,MATCH(65,Players!$H$2:$H$101,0))) | E66: =IF($B66="","",INDEX(Players!$G$2:$G$101,MATCH(65,Players!$H$2:$H$101,0))) | F66: =IF($B66="","",INDEX(Players!$D$2:$D$101,MATCH(65,Players!$H$2:$H$101,0)))
A67: =IF($B67="","",COUNTIF(Players!$F$2:$F$101,">"&$D67)+1) | B67: =IFERROR(INDEX(Players!$A$2:$A$101,MATCH(66,Players!$H$2:$H$101,0)),"") | C67: =IF($B67="","",INDEX(Players!$E$2:$E$101,MATCH(66,Players!$H$2:$H$101,0))) | D67: =IF($B67="","",INDEX(Players!$F$2:$F$101,MATCH(66,Players!$H$2:$H$101,0))) | E67: =IF($B67="","",INDEX(Players!$G$2:$G$101,MATCH(66,Players!$H$2:$H$101,0))) | F67: =IF($B67="","",INDEX(Players!$D$2:$D$101,MATCH(66,Players!$H$2:$H$101,0)))
A68: =IF($B68="","",COUNTIF(Players!$F$2:$F$101,">"&$D68)+1) | B68: =IFERROR(INDEX(Players!$A$2:$A$101,MATCH(67,Players!$H$2:$H$101,0)),"") | C68: =IF($B68="","",INDEX(Players!$E$2:$E$101,MATCH(67,Players!$H$2:$H$101,0))) | D68: =IF($B68="","",INDEX(Players!$F$2:$F$101,MATCH(67,Players!$H$2:$H$101,0))) | E68: =IF($B68="","",INDEX(Players!$G$2:$G$101,MATCH(67,Players!$H$2:$H$101,0))) | F68: =IF($B68="","",INDEX(Players!$D$2:$D$101,MATCH(67,Players!$H$2:$H$101,0)))
A69: =IF($B69="","",COUNTIF(Players!$F$2:$F$101,">"&$D69)+1) | B69: =IFERROR(INDEX(Players!$A$2:$A$101,MATCH(68,Players!$H$2:$H$101,0)),"") | C69: =IF($B69="","",INDEX(Players!$E$2:$E$101,MATCH(68,Players!$H$2:$H$101,0))) | D69: =IF($B69="","",INDEX(Players!$F$2:$F$101,MATCH(68,Players!$H$2:$H$101,0))) | E69: =IF($B69="","",INDEX(Players!$G$2:$G$101,MATCH(68,Players!$H$2:$H$101,0))) | F69: =IF($B69="","",INDEX(Players!$D$2:$D$101,MATCH(68,Players!$H$2:$H$101,0)))
A70: =IF($B70="","",COUNTIF(Players!$F$2:$F$101,">"&$D70)+1) | B70: =IFERROR(INDEX(Players!$A$2:$A$101,MATCH(69,Players!$H$2:$H$101,0)),"") | C70: =IF($B70="","",INDEX(Players!$E$2:$E$101,MATCH(69,Players!$H$2:$H$101,0))) | D70: =IF($B70="","",INDEX(Players!$F$2:$F$101,MATCH(69,Players!$H$2:$H$101,0))) | E70: =IF($B70="","",INDEX(Players!$G$2:$G$101,MATCH(69,Players!$H$2:$H$101,0))) | F70: =IF($B70="","",INDEX(Players!$D$2:$D$101,MATCH(69,Players!$H$2:$H$101,0)))
A71: =IF($B71="","",COUNTIF(Players!$F$2:$F$101,">"&$D71)+1) | B71: =IFERROR(INDEX(Players!$A$2:$A$101,MATCH(70,Players!$H$2:$H$101,0)),"") | C71: =IF($B71="","",INDEX(Players!$E$2:$E$101,MATCH(70,Players!$H$2:$H$101,0))) | D71: =IF($B71="","",INDEX(Players!$F$2:$F$101,MATCH(70,Players!$H$2:$H$101,0))) | E71: =IF($B71="","",INDEX(Players!$G$2:$G$101,MATCH(70,Players!$H$2:$H$101,0))) | F71: =IF($B71="","",INDEX(Players!$D$2:$D$101,MATCH(70,Players!$H$2:$H$101,0)))
A72: =IF($B72="","",COUNTIF(Players!$F$2:$F$101,">"&$D72)+1) | B72: =IFERROR(INDEX(Players!$A$2:$A$101,MATCH(71,Players!$H$2:$H$101,0)),"") | C72: =IF($B72="","",INDEX(Players!$E$2:$E$101,MATCH(71,Players!$H$2:$H$101,0))) | D72: =IF($B72="","",INDEX(Players!$F$2:$F$101,MATCH(71,Players!$H$2:$H$101,0))) | E72: =IF($B72="","",INDEX(Players!$G$2:$G$101,MATCH(71,Players!$H$2:$H$101,0))) | F72: =IF($B72="","",INDEX(Players!$D$2:$D$101,MATCH(71,Players!$H$2:$H$101,0)))
A73: =IF($B73="","",COUNTIF(Players!$F$2:$F$101,">"&$D73)+1) | B73: =IFERROR(INDEX(Players!$A$2:$A$101,MATCH(72,Players!$H$2:$H$101,0)),"") | C73: =IF($B73="","",INDEX(Players!$E$2:$E$101,MATCH(72,Players!$H$2:$H$101,0))) | D73: =IF($B73="","",INDEX(Players!$F$2:$F$101,MATCH(72,Players!$H$2:$H$101,0))) | E73: =IF($B73="","",INDEX(Players!$G$2:$G$101,MATCH(72,Players!$H$2:$H$101,0))) | F73: =IF($B73="","",INDEX(Players!$D$2:$D$101,MATCH(72,Players!$H$2:$H$101,0)))
A74: =IF($B74="","",COUNTIF(Players!$F$2:$F$101,">"&$D74)+1) | B74: =IFERROR(INDEX(Players!$A$2:$A$101,MATCH(73,Players!$H$2:$H$101,0)),"") | C74: =IF($B74="","",INDEX(Players!$E$2:$E$101,MATCH(73,Players!$H$2:$H$101,0))) | D74: =IF($B74="","",INDEX(Players!$F$2:$F$101,MATCH(73,Players!$H$2:$H$101,0))) | E74: =IF($B74="","",INDEX(Players!$G$2:$G$101,MATCH(73,Players!$H$2:$H$101,0))) | F74: =IF($B74="","",INDEX(Players!$D$2:$D$101,MATCH(73,Players!$H$2:$H$101,0)))
A75: =IF($B75="","",COUNTIF(Players!$F$2:$F$101,">"&$D75)+1) | B75: =IFERROR(INDEX(Players!$A$2:$A$101,MATCH(74,Players!$H$2:$H$101,0)),"") | C75: =IF($B75="","",INDEX(Players!$E$2:$E$101,MATCH(74,Players!$H$2:$H$101,0))) | D75: =IF($B75="","",INDEX(Players!$F$2:$F$101,MATCH(74,Players!$H$2:$H$101,0))) | E75: =IF($B75="","",INDEX(Players!$G$2:$G$101,MATCH(74,Players!$H$2:$H$101,0))) | F75: =IF($B75="","",INDEX(Players!$D$2:$D$101,MATCH(74,Players!$H$2:$H$101,0)))
A76: =IF($B76="","",COUNTIF(Players!$F$2:$F$101,">"&$D76)+1) | B76: =IFERROR(INDEX(Players!$A$2:$A$101,MATCH(75,Players!$H$2:$H$101,0)),"") | C76: =IF($B76="","",INDEX(Players!$E$2:$E$101,MATCH(75,Players!$H$2:$H$101,0))) | D76: =IF($B76="","",INDEX(Players!$F$2:$F$101,MATCH(75,Players!$H$2:$H$101,0))) | E76: =IF($B76="","",INDEX(Players!$G$2:$G$101,MATCH(75,Players!$H$2:$H$101,0))) | F76: =IF($B76="","",INDEX(Players!$D$2:$D$101,MATCH(75,Players!$H$2:$H$101,0)))
A77: =IF($B77="","",COUNTIF(Players!$F$2:$F$101,">"&$D77)+1) | B77: =IFERROR(INDEX(Players!$A$2:$A$101,MATCH(76,Players!$H$2:$H$101,0)),"") | C77: =IF($B77="","",INDEX(Players!$E$2:$E$101,MATCH(76,Players!$H$2:$H$101,0))) | D77: =IF($B77="","",INDEX(Players!$F$2:$F$101,MATCH(76,Players!$H$2:$H$101,0))) | E77: =IF($B77="","",INDEX(Players!$G$2:$G$101,MATCH(76,Players!$H$2:$H$101,0))) | F77: =IF($B77="","",INDEX(Players!$D$2:$D$101,MATCH(76,Players!$H$2:$H$101,0)))
A78: =IF($B78="","",COUNTIF(Players!$F$2:$F$101,">"&$D78)+1) | B78: =IFERROR(INDEX(Players!$A$2:$A$101,MATCH(77,Players!$H$2:$H$101,0)),"") | C78: =IF($B78="","",INDEX(Players!$E$2:$E$101,MATCH(77,Players!$H$2:$H$101,0))) | D78: =IF($B78="","",INDEX(Players!$F$2:$F$101,MATCH(77,Players!$H$2:$H$101,0))) | E78: =IF($B78="","",INDEX(Players!$G$2:$G$101,MATCH(77,Players!$H$2:$H$101,0))) | F78: =IF($B78="","",INDEX(Players!$D$2:$D$101,MATCH(77,Players!$H$2:$H$101,0)))
A79: =IF($B79="","",COUNTIF(Players!$F$2:$F$101,">"&$D79)+1) | B79: =IFERROR(INDEX(Players!$A$2:$A$101,MATCH(78,Players!$H$2:$H$101,0)),"") | C79: =IF($B79="","",INDEX(Players!$E$2:$E$101,MATCH(78,Players!$H$2:$H$101,0))) | D79: =IF($B79="","",INDEX(Players!$F$2:$F$101,MATCH(78,Players!$H$2:$H$101,0))) | E79: =IF($B79="","",INDEX(Players!$G$2:$G$101,MATCH(78,Players!$H$2:$H$101,0))) | F79: =IF($B79="","",INDEX(Players!$D$2:$D$101,MATCH(78,Players!$H$2:$H$101,0)))
A80: =IF($B80="","",COUNTIF(Players!$F$2:$F$101,">"&$D80)+1) | B80: =IFERROR(INDEX(Players!$A$2:$A$101,MATCH(79,Players!$H$2:$H$101,0)),"") | C80: =IF($B80="","",INDEX(Players!$E$2:$E$101,MATCH(79,Players!$H$2:$H$101,0))) | D80: =IF($B80="","",INDEX(Players!$F$2:$F$101,MATCH(79,Players!$H$2:$H$101,0))) | E80: =IF($B80="","",INDEX(Players!$G$2:$G$101,MATCH(79,Players!$H$2:$H$101,0))) | F80: =IF($B80="","",INDEX(Players!$D$2:$D$101,MATCH(79,Players!$H$2:$H$101,0)))
A81: =IF($B81="","",COUNTIF(Players!$F$2:$F$101,">"&$D81)+1) | B81: =IFERROR(INDEX(Players!$A$2:$A$101,MATCH(80,Players!$H$2:$H$101,0)),"") | C81: =IF($B81="","",INDEX(Players!$E$2:$E$101,MATCH(80,Players!$H$2:$H$101,0))) | D81: =IF($B81="","",INDEX(Players!$F$2:$F$101,MATCH(80,Players!$H$2:$H$101,0))) | E81: =IF($B81="","",INDEX(Players!$G$2:$G$101,MATCH(80,Players!$H$2:$H$101,0))) | F81: =IF($B81="","",INDEX(Players!$D$2:$D$101,MATCH(80,Players!$H$2:$H$101,0)))
A82: =IF($B82="","",COUNTIF(Players!$F$2:$F$101,">"&$D82)+1) | B82: =IFERROR(INDEX(Players!$A$2:$A$101,MATCH(81,Players!$H$2:$H$101,0)),"") | C82: =IF($B82="","",INDEX(Players!$E$2:$E$101,MATCH(81,Players!$H$2:$H$101,0))) | D82: =IF($B82="","",INDEX(Players!$F$2:$F$101,MATCH(81,Players!$H$2:$H$101,0))) | E82: =IF($B82="","",INDEX(Players!$G$2:$G$101,MATCH(81,Players!$H$2:$H$101,0))) | F82: =IF($B82="","",INDEX(Players!$D$2:$D$101,MATCH(81,Players!$H$2:$H$101,0)))
A83: =IF($B83="","",COUNTIF(Players!$F$2:$F$101,">"&$D83)+1) | B83: =IFERROR(INDEX(Players!$A$2:$A$101,MATCH(82,Players!$H$2:$H$101,0)),"") | C83: =IF($B83="","",INDEX(Players!$E$2:$E$101,MATCH(82,Players!$H$2:$H$101,0))) | D83: =IF($B83="","",INDEX(Players!$F$2:$F$101,MATCH(82,Players!$H$2:$H$101,0))) | E83: =IF($B83="","",INDEX(Players!$G$2:$G$101,MATCH(82,Players!$H$2:$H$101,0))) | F83: =IF($B83="","",INDEX(Players!$D$2:$D$101,MATCH(82,Players!$H$2:$H$101,0)))
A84: =IF($B84="","",COUNTIF(Players!$F$2:$F$101,">"&$D84)+1) | B84: =IFERROR(INDEX(Players!$A$2:$A$101,MATCH(83,Players!$H$2:$H$101,0)),"") | C84: =IF($B84="","",INDEX(Players!$E$2:$E$101,MATCH(83,Players!$H$2:$H$101,0))) | D84: =IF($B84="","",INDEX(Players!$F$2:$F$101,MATCH(83,Players!$H$2:$H$101,0))) | E84: =IF($B84="","",INDEX(Players!$G$2:$G$101,MATCH(83,Players!$H$2:$H$101,0))) | F84: =IF($B84="","",INDEX(Players!$D$2:$D$101,MATCH(83,Players!$H$2:$H$101,0)))
A85: =IF($B85="","",COUNTIF(Players!$F$2:$F$101,">"&$D85)+1) | B85: =IFERROR(INDEX(Players!$A$2:$A$101,MATCH(84,Players!$H$2:$H$101,0)),"") | C85: =IF($B85="","",INDEX(Players!$E$2:$E$101,MATCH(84,Players!$H$2:$H$101,0))) | D85: =IF($B85="","",INDEX(Players!$F$2:$F$101,MATCH(84,Players!$H$2:$H$101,0))) | E85: =IF($B85="","",INDEX(Players!$G$2:$G$101,MATCH(84,Players!$H$2:$H$101,0))) | F85: =IF($B85="","",INDEX(Players!$D$2:$D$101,MATCH(84,Players!$H$2:$H$101,0)))
A86: =IF($B86="","",COUNTIF(Players!$F$2:$F$101,">"&$D86)+1) | B86: =IFERROR(INDEX(Players!$A$2:$A$101,MATCH(85,Players!$H$2:$H$101,0)),"") | C86: =IF($B86="","",INDEX(Players!$E$2:$E$101,MATCH(85,Players!$H$2:$H$101,0))) | D86: =IF($B86="","",INDEX(Players!$F$2:$F$101,MATCH(85,Players!$H$2:$H$101,0))) | E86: =IF($B86="","",INDEX(Players!$G$2:$G$101,MATCH(85,Players!$H$2:$H$101,0))) | F86: =IF($B86="","",INDEX(Players!$D$2:$D$101,MATCH(85,Players!$H$2:$H$101,0)))
A87: =IF($B87="","",COUNTIF(Players!$F$2:$F$101,">"&$D87)+1) | B87: =IFERROR(INDEX(Players!$A$2:$A$101,MATCH(86,Players!$H$2:$H$101,0)),"") | C87: =IF($B87="","",INDEX(Players!$E$2:$E$101,MATCH(86,Players!$H$2:$H$101,0))) | D87: =IF($B87="","",INDEX(Players!$F$2:$F$101,MATCH(86,Players!$H$2:$H$101,0))) | E87: =IF($B87="","",INDEX(Players!$G$2:$G$101,MATCH(86,Players!$H$2:$H$101,0))) | F87: =IF($B87="","",INDEX(Players!$D$2:$D$101,MATCH(86,Players!$H$2:$H$101,0)))
A88: =IF($B88="","",COUNTIF(Players!$F$2:$F$101,">"&$D88)+1) | B88: =IFERROR(INDEX(Players!$A$2:$A$101,MATCH(87,Players!$H$2:$H$101,0)),"") | C88: =IF($B88="","",INDEX(Players!$E$2:$E$101,MATCH(87,Players!$H$2:$H$101,0))) | D88: =IF($B88="","",INDEX(Players!$F$2:$F$101,MATCH(87,Players!$H$2:$H$101,0))) | E88: =IF($B88="","",INDEX(Players!$G$2:$G$101,MATCH(87,Players!$H$2:$H$101,0))) | F88: =IF($B88="","",INDEX(Players!$D$2:$D$101,MATCH(87,Players!$H$2:$H$101,0)))
A89: =IF($B89="","",COUNTIF(Players!$F$2:$F$101,">"&$D89)+1) | B89: =IFERROR(INDEX(Players!$A$2:$A$101,MATCH(88,Players!$H$2:$H$101,0)),"") | C89: =IF($B89="","",INDEX(Players!$E$2:$E$101,MATCH(88,Players!$H$2:$H$101,0))) | D89: =IF($B89="","",INDEX(Players!$F$2:$F$101,MATCH(88,Players!$H$2:$H$101,0))) | E89: =IF($B89="","",INDEX(Players!$G$2:$G$101,MATCH(88,Players!$H$2:$H$101,0))) | F89: =IF($B89="","",INDEX(Players!$D$2:$D$101,MATCH(88,Players!$H$2:$H$101,0)))
A90: =IF($B90="","",COUNTIF(Players!$F$2:$F$101,">"&$D90)+1) | B90: =IFERROR(INDEX(Players!$A$2:$A$101,MATCH(89,Players!$H$2:$H$101,0)),"") | C90: =IF($B90="","",INDEX(Players!$E$2:$E$101,MATCH(89,Players!$H$2:$H$101,0))) | D90: =IF($B90="","",INDEX(Players!$F$2:$F$101,MATCH(89,Players!$H$2:$H$101,0))) | E90: =IF($B90="","",INDEX(Players!$G$2:$G$101,MATCH(89,Players!$H$2:$H$101,0))) | F90: =IF($B90="","",INDEX(Players!$D$2:$D$101,MATCH(89,Players!$H$2:$H$101,0)))
A91: =IF($B91="","",COUNTIF(Players!$F$2:$F$101,">"&$D91)+1) | B91: =IFERROR(INDEX(Players!$A$2:$A$101,MATCH(90,Players!$H$2:$H$101,0)),"") | C91: =IF($B91="","",INDEX(Players!$E$2:$E$101,MATCH(90,Players!$H$2:$H$101,0))) | D91: =IF($B91="","",INDEX(Players!$F$2:$F$101,MATCH(90,Players!$H$2:$H$101,0))) | E91: =IF($B91="","",INDEX(Players!$G$2:$G$101,MATCH(90,Players!$H$2:$H$101,0))) | F91: =IF($B91="","",INDEX(Players!$D$2:$D$101,MATCH(90,Players!$H$2:$H$101,0)))
A92: =IF($B92="","",COUNTIF(Players!$F$2:$F$101,">"&$D92)+1) | B92: =IFERROR(INDEX(Players!$A$2:$A$101,MATCH(91,Players!$H$2:$H$101,0)),"") | C92: =IF($B92="","",INDEX(Players!$E$2:$E$101,MATCH(91,Players!$H$2:$H$101,0))) | D92: =IF($B92="","",INDEX(Players!$F$2:$F$101,MATCH(91,Players!$H$2:$H$101,0))) | E92: =IF($B92="","",INDEX(Players!$G$2:$G$101,MATCH(91,Players!$H$2:$H$101,0))) | F92: =IF($B92="","",INDEX(Players!$D$2:$D$101,MATCH(91,Players!$H$2:$H$101,0)))
A93: =IF($B93="","",COUNTIF(Players!$F$2:$F$101,">"&$D93)+1) | B93: =IFERROR(INDEX(Players!$A$2:$A$101,MATCH(92,Players!$H$2:$H$101,0)),"") | C93: =IF($B93="","",INDEX(Players!$E$2:$E$101,MATCH(92,Players!$H$2:$H$101,0))) | D93: =IF($B93="","",INDEX(Players!$F$2:$F$101,MATCH(92,Players!$H$2:$H$101,0))) | E93: =IF($B93="","",INDEX(Players!$G$2:$G$101,MATCH(92,Players!$H$2:$H$101,0))) | F93: =IF($B93="","",INDEX(Players!$D$2:$D$101,MATCH(92,Players!$H$2:$H$101,0)))
A94: =IF($B94="","",COUNTIF(Players!$F$2:$F$101,">"&$D94)+1) | B94: =IFERROR(INDEX(Players!$A$2:$A$101,MATCH(93,Players!$H$2:$H$101,0)),"") | C94: =IF($B94="","",INDEX(Players!$E$2:$E$101,MATCH(93,Players!$H$2:$H$101,0))) | D94: =IF($B94="","",INDEX(Players!$F$2:$F$101,MATCH(93,Players!$H$2:$H$101,0))) | E94: =IF($B94="","",INDEX(Players!$G$2:$G$101,MATCH(93,Players!$H$2:$H$101,0))) | F94: =IF($B94="","",INDEX(Players!$D$2:$D$101,MATCH(93,Players!$H$2:$H$101,0)))
A95: =IF($B95="","",COUNTIF(Players!$F$2:$F$101,">"&$D95)+1) | B95: =IFERROR(INDEX(Players!$A$2:$A$101,MATCH(94,Players!$H$2:$H$101,0)),"") | C95: =IF($B95="","",INDEX(Players!$E$2:$E$101,MATCH(94,Players!$H$2:$H$101,0))) | D95: =IF($B95="","",INDEX(Players!$F$2:$F$101,MATCH(94,Players!$H$2:$H$101,0))) | E95: =IF($B95="","",INDEX(Players!$G$2:$G$101,MATCH(94,Players!$H$2:$H$101,0))) | F95: =IF($B95="","",INDEX(Players!$D$2:$D$101,MATCH(94,Players!$H$2:$H$101,0)))
A96: =IF($B96="","",COUNTIF(Players!$F$2:$F$101,">"&$D96)+1) | B96: =IFERROR(INDEX(Players!$A$2:$A$101,MATCH(95,Players!$H$2:$H$101,0)),"") | C96: =IF($B96="","",INDEX(Players!$E$2:$E$101,MATCH(95,Players!$H$2:$H$101,0))) | D96: =IF($B96="","",INDEX(Players!$F$2:$F$101,MATCH(95,Players!$H$2:$H$101,0))) | E96: =IF($B96="","",INDEX(Players!$G$2:$G$101,MATCH(95,Players!$H$2:$H$101,0))) | F96: =IF($B96="","",INDEX(Players!$D$2:$D$101,MATCH(95,Players!$H$2:$H$101,0)))
A97: =IF($B97="","",COUNTIF(Players!$F$2:$F$101,">"&$D97)+1) | B97: =IFERROR(INDEX(Players!$A$2:$A$101,MATCH(96,Players!$H$2:$H$101,0)),"") | C97: =IF($B97="","",INDEX(Players!$E$2:$E$101,MATCH(96,Players!$H$2:$H$101,0))) | D97: =IF($B97="","",INDEX(Players!$F$2:$F$101,MATCH(96,Players!$H$2:$H$101,0))) | E97: =IF($B97="","",INDEX(Players!$G$2:$G$101,MATCH(96,Players!$H$2:$H$101,0))) | F97: =IF($B97="","",INDEX(Players!$D$2:$D$101,MATCH(96,Players!$H$2:$H$101,0)))
A98: =IF($B98="","",COUNTIF(Players!$F$2:$F$101,">"&$D98)+1) | B98: =IFERROR(INDEX(Players!$A$2:$A$101,MATCH(97,Players!$H$2:$H$101,0)),"") | C98: =IF($B98="","",INDEX(Players!$E$2:$E$101,MATCH(97,Players!$H$2:$H$101,0))) | D98: =IF($B98="","",INDEX(Players!$F$2:$F$101,MATCH(97,Players!$H$2:$H$101,0))) | E98: =IF($B98="","",INDEX(Players!$G$2:$G$101,MATCH(97,Players!$H$2:$H$101,0))) | F98: =IF($B98="","",INDEX(Players!$D$2:$D$101,MATCH(97,Players!$H$2:$H$101,0)))
A99: =IF($B99="","",COUNTIF(Players!$F$2:$F$101,">"&$D99)+1) | B99: =IFERROR(INDEX(Players!$A$2:$A$101,MATCH(98,Players!$H$2:$H$101,0)),"") | C99: =IF($B99="","",INDEX(Players!$E$2:$E$101,MATCH(98,Players!$H$2:$H$101,0))) | D99: =IF($B99="","",INDEX(Players!$F$2:$F$101,MATCH(98,Players!$H$2:$H$101,0))) | E99: =IF($B99="","",INDEX(Players!$G$2:$G$101,MATCH(98,Players!$H$2:$H$101,0))) | F99: =IF($B99="","",INDEX(Players!$D$2:$D$101,MATCH(98,Players!$H$2:$H$101,0)))
A100: =IF($B100="","",COUNTIF(Players!$F$2:$F$101,">"&$D100)+1) | B100: =IFERROR(INDEX(Players!$A$2:$A$101,MATCH(99,Players!$H$2:$H$101,0)),"") | C100: =IF($B100="","",INDEX(Players!$E$2:$E$101,MATCH(99,Players!$H$2:$H$101,0))) | D100: =IF($B100="","",INDEX(Players!$F$2:$F$101,MATCH(99,Players!$H$2:$H$101,0))) | E100: =IF($B100="","",INDEX(Players!$G$2:$G$101,MATCH(99,Players!$H$2:$H$101,0))) | F100: =IF($B100="","",INDEX(Players!$D$2:$D$101,MATCH(99,Players!$H$2:$H$101,0)))
...

Sheet Points
A1: Score | B1: Points | C1: A common scale, not a rule. Change it to the one your group plays.
A2: Eagle or better | B2: 8
A3: Birdie | B3: 4
A4: Par | B4: 2
A5: Bogey | B5: 1
A6: Double bogey or worse | B6: 0

Sheet Settings
A1: Setting | B1: Value | C1: What it does
A2: Rounds counted | B2: 10 | C2: A quota is the average of the player’s latest points totals, up to this many rounds. From 4 to 20.
A3: Decimal places | B3: 1 | C3: Quotas are rounded half up to this many decimal places: 0, 1 or 2.
A4: Hold the starting quota | B4: No | C4: Yes: a player keeps their starting quota until they’ve played as many rounds as are counted. No: the average takes over after their first round.
