Workbook

Sheet How to use
A1: Quota game spreadsheet
A2: Keep your group’s quotas for a season. After each round you add everyone’s points, and each player’s quota, plus/minus and place fill in.
A4: How to use it
A5: 1. On Settings, choose how many recent rounds make up a quota, how many decimal places to keep, and whether new players hold their starting quota.
A6: 2. On Points, set the points your group gives for each score, and count every round with them.
A7: 3. On Players, type each player’s name and starting quota. A common starting quota is 36 minus the player’s course handicap.
A8: 4. After each round, add one row per player on Rounds: the date, the name exactly as it is on Players, and their points.
A9: 5. Standings shows the season, best total plus/minus first. On Players, Current quota is each player’s quota for their next round.
A11: Each round uses the quota the player had going into it, so adding a round never changes an earlier one.
A12: Type only in the white columns. The grey ones fill in by themselves.
A13: Quotas here are the average of each player’s recent rounds. For the best 10 of 20, or another way, use the free quota calculator on GreenRoster.
A15: Points for each score
A16: =Points!A2 | B16: =Points!B2
A17: =Points!A3 | B17: =Points!B3
A18: =Points!A4 | B18: =Points!B4
A19: =Points!A5 | B19: =Points!B5
A20: =Points!A6 | B20: =Points!B6

Sheet Players
A1: Player | B1: Starting quota | C1: Handicap (optional) | D1: Current quota | E1: Rounds played | F1: Total plus/minus | G1: Wins | H1: Standings order
D2: =IF($A2="","",IF(OR($E2=0,AND(Settings!$B$4="Yes",$E2<Settings!$B$2)),IF($B2="","Add a starting quota",ROUND($B2,Settings!$B$3)),ROUND(SUMIFS(Rounds!$C$2:$C$501,Rounds!$B$2:$B$501,$A2,Rounds!$D$2:$D$501,">"&($E2-Settings!$B$2))/COUNTIFS(Rounds!$B$2:$B$501,$A2,Rounds!$D$2:$D$501,">"&($E2-Settings!$B$2)),Settings!$B$3))) | E2: =IF($A2="","",COUNTIFS(Rounds!$B$2:$B$501,$A2,Rounds!$D$2:$D$501,">0")) | F2: =IF($A2="","",ROUND(SUMIFS(Rounds!$F$2:$F$501,Rounds!$B$2:$B$501,$A2),2)) | G2: =IF($A2="","",COUNTIFS(Rounds!$B$2:$B$501,$A2,Rounds!$G$2:$G$501,1)) | H2: =IF($A2="","",COUNTIF($F$2:$F$101,">"&$F2)+COUNTIF($F$2:$F2,$F2))
D3: =IF($A3="","",IF(OR($E3=0,AND(Settings!$B$4="Yes",$E3<Settings!$B$2)),IF($B3="","Add a starting quota",ROUND($B3,Settings!$B$3)),ROUND(SUMIFS(Rounds!$C$2:$C$501,Rounds!$B$2:$B$501,$A3,Rounds!$D$2:$D$501,">"&($E3-Settings!$B$2))/COUNTIFS(Rounds!$B$2:$B$501,$A3,Rounds!$D$2:$D$501,">"&($E3-Settings!$B$2)),Settings!$B$3))) | E3: =IF($A3="","",COUNTIFS(Rounds!$B$2:$B$501,$A3,Rounds!$D$2:$D$501,">0")) | F3: =IF($A3="","",ROUND(SUMIFS(Rounds!$F$2:$F$501,Rounds!$B$2:$B$501,$A3),2)) | G3: =IF($A3="","",COUNTIFS(Rounds!$B$2:$B$501,$A3,Rounds!$G$2:$G$501,1)) | H3: =IF($A3="","",COUNTIF($F$2:$F$101,">"&$F3)+COUNTIF($F$2:$F3,$F3))
D4: =IF($A4="","",IF(OR($E4=0,AND(Settings!$B$4="Yes",$E4<Settings!$B$2)),IF($B4="","Add a starting quota",ROUND($B4,Settings!$B$3)),ROUND(SUMIFS(Rounds!$C$2:$C$501,Rounds!$B$2:$B$501,$A4,Rounds!$D$2:$D$501,">"&($E4-Settings!$B$2))/COUNTIFS(Rounds!$B$2:$B$501,$A4,Rounds!$D$2:$D$501,">"&($E4-Settings!$B$2)),Settings!$B$3))) | E4: =IF($A4="","",COUNTIFS(Rounds!$B$2:$B$501,$A4,Rounds!$D$2:$D$501,">0")) | F4: =IF($A4="","",ROUND(SUMIFS(Rounds!$F$2:$F$501,Rounds!$B$2:$B$501,$A4),2)) | G4: =IF($A4="","",COUNTIFS(Rounds!$B$2:$B$501,$A4,Rounds!$G$2:$G$501,1)) | H4: =IF($A4="","",COUNTIF($F$2:$F$101,">"&$F4)+COUNTIF($F$2:$F4,$F4))
D5: =IF($A5="","",IF(OR($E5=0,AND(Settings!$B$4="Yes",$E5<Settings!$B$2)),IF($B5="","Add a starting quota",ROUND($B5,Settings!$B$3)),ROUND(SUMIFS(Rounds!$C$2:$C$501,Rounds!$B$2:$B$501,$A5,Rounds!$D$2:$D$501,">"&($E5-Settings!$B$2))/COUNTIFS(Rounds!$B$2:$B$501,$A5,Rounds!$D$2:$D$501,">"&($E5-Settings!$B$2)),Settings!$B$3))) | E5: =IF($A5="","",COUNTIFS(Rounds!$B$2:$B$501,$A5,Rounds!$D$2:$D$501,">0")) | F5: =IF($A5="","",ROUND(SUMIFS(Rounds!$F$2:$F$501,Rounds!$B$2:$B$501,$A5),2)) | G5: =IF($A5="","",COUNTIFS(Rounds!$B$2:$B$501,$A5,Rounds!$G$2:$G$501,1)) | H5: =IF($A5="","",COUNTIF($F$2:$F$101,">"&$F5)+COUNTIF($F$2:$F5,$F5))
D6: =IF($A6="","",IF(OR($E6=0,AND(Settings!$B$4="Yes",$E6<Settings!$B$2)),IF($B6="","Add a starting quota",ROUND($B6,Settings!$B$3)),ROUND(SUMIFS(Rounds!$C$2:$C$501,Rounds!$B$2:$B$501,$A6,Rounds!$D$2:$D$501,">"&($E6-Settings!$B$2))/COUNTIFS(Rounds!$B$2:$B$501,$A6,Rounds!$D$2:$D$501,">"&($E6-Settings!$B$2)),Settings!$B$3))) | E6: =IF($A6="","",COUNTIFS(Rounds!$B$2:$B$501,$A6,Rounds!$D$2:$D$501,">0")) | F6: =IF($A6="","",ROUND(SUMIFS(Rounds!$F$2:$F$501,Rounds!$B$2:$B$501,$A6),2)) | G6: =IF($A6="","",COUNTIFS(Rounds!$B$2:$B$501,$A6,Rounds!$G$2:$G$501,1)) | H6: =IF($A6="","",COUNTIF($F$2:$F$101,">"&$F6)+COUNTIF($F$2:$F6,$F6))
D7: =IF($A7="","",IF(OR($E7=0,AND(Settings!$B$4="Yes",$E7<Settings!$B$2)),IF($B7="","Add a starting quota",ROUND($B7,Settings!$B$3)),ROUND(SUMIFS(Rounds!$C$2:$C$501,Rounds!$B$2:$B$501,$A7,Rounds!$D$2:$D$501,">"&($E7-Settings!$B$2))/COUNTIFS(Rounds!$B$2:$B$501,$A7,Rounds!$D$2:$D$501,">"&($E7-Settings!$B$2)),Settings!$B$3))) | E7: =IF($A7="","",COUNTIFS(Rounds!$B$2:$B$501,$A7,Rounds!$D$2:$D$501,">0")) | F7: =IF($A7="","",ROUND(SUMIFS(Rounds!$F$2:$F$501,Rounds!$B$2:$B$501,$A7),2)) | G7: =IF($A7="","",COUNTIFS(Rounds!$B$2:$B$501,$A7,Rounds!$G$2:$G$501,1)) | H7: =IF($A7="","",COUNTIF($F$2:$F$101,">"&$F7)+COUNTIF($F$2:$F7,$F7))
D8: =IF($A8="","",IF(OR($E8=0,AND(Settings!$B$4="Yes",$E8<Settings!$B$2)),IF($B8="","Add a starting quota",ROUND($B8,Settings!$B$3)),ROUND(SUMIFS(Rounds!$C$2:$C$501,Rounds!$B$2:$B$501,$A8,Rounds!$D$2:$D$501,">"&($E8-Settings!$B$2))/COUNTIFS(Rounds!$B$2:$B$501,$A8,Rounds!$D$2:$D$501,">"&($E8-Settings!$B$2)),Settings!$B$3))) | E8: =IF($A8="","",COUNTIFS(Rounds!$B$2:$B$501,$A8,Rounds!$D$2:$D$501,">0")) | F8: =IF($A8="","",ROUND(SUMIFS(Rounds!$F$2:$F$501,Rounds!$B$2:$B$501,$A8),2)) | G8: =IF($A8="","",COUNTIFS(Rounds!$B$2:$B$501,$A8,Rounds!$G$2:$G$501,1)) | H8: =IF($A8="","",COUNTIF($F$2:$F$101,">"&$F8)+COUNTIF($F$2:$F8,$F8))
D9: =IF($A9="","",IF(OR($E9=0,AND(Settings!$B$4="Yes",$E9<Settings!$B$2)),IF($B9="","Add a starting quota",ROUND($B9,Settings!$B$3)),ROUND(SUMIFS(Rounds!$C$2:$C$501,Rounds!$B$2:$B$501,$A9,Rounds!$D$2:$D$501,">"&($E9-Settings!$B$2))/COUNTIFS(Rounds!$B$2:$B$501,$A9,Rounds!$D$2:$D$501,">"&($E9-Settings!$B$2)),Settings!$B$3))) | E9: =IF($A9="","",COUNTIFS(Rounds!$B$2:$B$501,$A9,Rounds!$D$2:$D$501,">0")) | F9: =IF($A9="","",ROUND(SUMIFS(Rounds!$F$2:$F$501,Rounds!$B$2:$B$501,$A9),2)) | G9: =IF($A9="","",COUNTIFS(Rounds!$B$2:$B$501,$A9,Rounds!$G$2:$G$501,1)) | H9: =IF($A9="","",COUNTIF($F$2:$F$101,">"&$F9)+COUNTIF($F$2:$F9,$F9))
D10: =IF($A10="","",IF(OR($E10=0,AND(Settings!$B$4="Yes",$E10<Settings!$B$2)),IF($B10="","Add a starting quota",ROUND($B10,Settings!$B$3)),ROUND(SUMIFS(Rounds!$C$2:$C$501,Rounds!$B$2:$B$501,$A10,Rounds!$D$2:$D$501,">"&($E10-Settings!$B$2))/COUNTIFS(Rounds!$B$2:$B$501,$A10,Rounds!$D$2:$D$501,">"&($E10-Settings!$B$2)),Settings!$B$3))) | E10: =IF($A10="","",COUNTIFS(Rounds!$B$2:$B$501,$A10,Rounds!$D$2:$D$501,">0")) | F10: =IF($A10="","",ROUND(SUMIFS(Rounds!$F$2:$F$501,Rounds!$B$2:$B$501,$A10),2)) | G10: =IF($A10="","",COUNTIFS(Rounds!$B$2:$B$501,$A10,Rounds!$G$2:$G$501,1)) | H10: =IF($A10="","",COUNTIF($F$2:$F$101,">"&$F10)+COUNTIF($F$2:$F10,$F10))
D11: =IF($A11="","",IF(OR($E11=0,AND(Settings!$B$4="Yes",$E11<Settings!$B$2)),IF($B11="","Add a starting quota",ROUND($B11,Settings!$B$3)),ROUND(SUMIFS(Rounds!$C$2:$C$501,Rounds!$B$2:$B$501,$A11,Rounds!$D$2:$D$501,">"&($E11-Settings!$B$2))/COUNTIFS(Rounds!$B$2:$B$501,$A11,Rounds!$D$2:$D$501,">"&($E11-Settings!$B$2)),Settings!$B$3))) | E11: =IF($A11="","",COUNTIFS(Rounds!$B$2:$B$501,$A11,Rounds!$D$2:$D$501,">0")) | F11: =IF($A11="","",ROUND(SUMIFS(Rounds!$F$2:$F$501,Rounds!$B$2:$B$501,$A11),2)) | G11: =IF($A11="","",COUNTIFS(Rounds!$B$2:$B$501,$A11,Rounds!$G$2:$G$501,1)) | H11: =IF($A11="","",COUNTIF($F$2:$F$101,">"&$F11)+COUNTIF($F$2:$F11,$F11))
D12: =IF($A12="","",IF(OR($E12=0,AND(Settings!$B$4="Yes",$E12<Settings!$B$2)),IF($B12="","Add a starting quota",ROUND($B12,Settings!$B$3)),ROUND(SUMIFS(Rounds!$C$2:$C$501,Rounds!$B$2:$B$501,$A12,Rounds!$D$2:$D$501,">"&($E12-Settings!$B$2))/COUNTIFS(Rounds!$B$2:$B$501,$A12,Rounds!$D$2:$D$501,">"&($E12-Settings!$B$2)),Settings!$B$3))) | E12: =IF($A12="","",COUNTIFS(Rounds!$B$2:$B$501,$A12,Rounds!$D$2:$D$501,">0")) | F12: =IF($A12="","",ROUND(SUMIFS(Rounds!$F$2:$F$501,Rounds!$B$2:$B$501,$A12),2)) | G12: =IF($A12="","",COUNTIFS(Rounds!$B$2:$B$501,$A12,Rounds!$G$2:$G$501,1)) | H12: =IF($A12="","",COUNTIF($F$2:$F$101,">"&$F12)+COUNTIF($F$2:$F12,$F12))
D13: =IF($A13="","",IF(OR($E13=0,AND(Settings!$B$4="Yes",$E13<Settings!$B$2)),IF($B13="","Add a starting quota",ROUND($B13,Settings!$B$3)),ROUND(SUMIFS(Rounds!$C$2:$C$501,Rounds!$B$2:$B$501,$A13,Rounds!$D$2:$D$501,">"&($E13-Settings!$B$2))/COUNTIFS(Rounds!$B$2:$B$501,$A13,Rounds!$D$2:$D$501,">"&($E13-Settings!$B$2)),Settings!$B$3))) | E13: =IF($A13="","",COUNTIFS(Rounds!$B$2:$B$501,$A13,Rounds!$D$2:$D$501,">0")) | F13: =IF($A13="","",ROUND(SUMIFS(Rounds!$F$2:$F$501,Rounds!$B$2:$B$501,$A13),2)) | G13: =IF($A13="","",COUNTIFS(Rounds!$B$2:$B$501,$A13,Rounds!$G$2:$G$501,1)) | H13: =IF($A13="","",COUNTIF($F$2:$F$101,">"&$F13)+COUNTIF($F$2:$F13,$F13))
... D101: =IF($A101="","",IF(OR($E101=0,AND(Settings!$B$4="Yes",$E101<Settings!$B$2)),IF($B101="","Add a starting quota",ROUND($B101,Settings!$B$3)),ROUND(SUMIFS(Rounds!$C$2:$C$501,Rounds!$B$2:$B$501,$A101,Rounds!$D$2:$D$501,">"&($E101-Settings!$B$2))/COUNTIFS(Rounds!$B$2:$B$501,$A101,Rounds!$D$2:$D$501,">"&($E101-Settings!$B$2)),Settings!$B$3))) | E101: =IF($A101="","",COUNTIFS(Rounds!$B$2:$B$501,$A101,Rounds!$D$2:$D$501,">0")) | F101: =IF($A101="","",ROUND(SUMIFS(Rounds!$F$2:$F$501,Rounds!$B$2:$B$501,$A101),2)) | G101: =IF($A101="","",COUNTIFS(Rounds!$B$2:$B$501,$A101,Rounds!$G$2:$G$501,1)) | H101: =IF($A101="","",COUNTIF($F$2:$F$101,">"&$F101)+COUNTIF($F$2:$F101,$F101))

Sheet Rounds
A1: Date | B1: Player | C1: Points | D1: Player’s round number | E1: Quota for this round | F1: Plus/minus | G1: Place
D2: =IF(OR($A2="",$B2="",$C2=""),"",COUNTIFS($B$2:$B$501,$B2,$C$2:$C$501,"<>",$A$2:$A$501,"<"&$A2)+COUNTIFS($B$1:$B1,$B2,$C$1:$C1,"<>",$A$1:$A1,$A2)+1) | E2: =IF($D2="","",IF(OR($D2=1,AND(Settings!$B$4="Yes",$D2<=Settings!$B$2)),IF(COUNTIFS(Players!$A$2:$A$101,$B2,Players!$B$2:$B$101,"<>")=0,"Add a starting quota",ROUND(SUMIFS(Players!$B$2:$B$101,Players!$A$2:$A$101,$B2),Settings!$B$3)),ROUND(SUMIFS($C$2:$C$501,$B$2:$B$501,$B2,$D$2:$D$501,">="&($D2-Settings!$B$2),$D$2:$D$501,"<"&$D2)/COUNTIFS($B$2:$B$501,$B2,$D$2:$D$501,">="&($D2-Settings!$B$2),$D$2:$D$501,"<"&$D2),Settings!$B$3))) | F2: =IF(ISNUMBER($E2),ROUND($C2-$E2,2),"") | G2: =IF(ISNUMBER($F2),COUNTIFS($A$2:$A$501,$A2,$F$2:$F$501,">"&$F2)+1,"")
D3: =IF(OR($A3="",$B3="",$C3=""),"",COUNTIFS($B$2:$B$501,$B3,$C$2:$C$501,"<>",$A$2:$A$501,"<"&$A3)+COUNTIFS($B$1:$B2,$B3,$C$1:$C2,"<>",$A$1:$A2,$A3)+1) | E3: =IF($D3="","",IF(OR($D3=1,AND(Settings!$B$4="Yes",$D3<=Settings!$B$2)),IF(COUNTIFS(Players!$A$2:$A$101,$B3,Players!$B$2:$B$101,"<>")=0,"Add a starting quota",ROUND(SUMIFS(Players!$B$2:$B$101,Players!$A$2:$A$101,$B3),Settings!$B$3)),ROUND(SUMIFS($C$2:$C$501,$B$2:$B$501,$B3,$D$2:$D$501,">="&($D3-Settings!$B$2),$D$2:$D$501,"<"&$D3)/COUNTIFS($B$2:$B$501,$B3,$D$2:$D$501,">="&($D3-Settings!$B$2),$D$2:$D$501,"<"&$D3),Settings!$B$3))) | F3: =IF(ISNUMBER($E3),ROUND($C3-$E3,2),"") | G3: =IF(ISNUMBER($F3),COUNTIFS($A$2:$A$501,$A3,$F$2:$F$501,">"&$F3)+1,"")
D4: =IF(OR($A4="",$B4="",$C4=""),"",COUNTIFS($B$2:$B$501,$B4,$C$2:$C$501,"<>",$A$2:$A$501,"<"&$A4)+COUNTIFS($B$1:$B3,$B4,$C$1:$C3,"<>",$A$1:$A3,$A4)+1) | E4: =IF($D4="","",IF(OR($D4=1,AND(Settings!$B$4="Yes",$D4<=Settings!$B$2)),IF(COUNTIFS(Players!$A$2:$A$101,$B4,Players!$B$2:$B$101,"<>")=0,"Add a starting quota",ROUND(SUMIFS(Players!$B$2:$B$101,Players!$A$2:$A$101,$B4),Settings!$B$3)),ROUND(SUMIFS($C$2:$C$501,$B$2:$B$501,$B4,$D$2:$D$501,">="&($D4-Settings!$B$2),$D$2:$D$501,"<"&$D4)/COUNTIFS($B$2:$B$501,$B4,$D$2:$D$501,">="&($D4-Settings!$B$2),$D$2:$D$501,"<"&$D4),Settings!$B$3))) | F4: =IF(ISNUMBER($E4),ROUND($C4-$E4,2),"") | G4: =IF(ISNUMBER($F4),COUNTIFS($A$2:$A$501,$A4,$F$2:$F$501,">"&$F4)+1,"")
D5: =IF(OR($A5="",$B5="",$C5=""),"",COUNTIFS($B$2:$B$501,$B5,$C$2:$C$501,"<>",$A$2:$A$501,"<"&$A5)+COUNTIFS($B$1:$B4,$B5,$C$1:$C4,"<>",$A$1:$A4,$A5)+1) | E5: =IF($D5="","",IF(OR($D5=1,AND(Settings!$B$4="Yes",$D5<=Settings!$B$2)),IF(COUNTIFS(Players!$A$2:$A$101,$B5,Players!$B$2:$B$101,"<>")=0,"Add a starting quota",ROUND(SUMIFS(Players!$B$2:$B$101,Players!$A$2:$A$101,$B5),Settings!$B$3)),ROUND(SUMIFS($C$2:$C$501,$B$2:$B$501,$B5,$D$2:$D$501,">="&($D5-Settings!$B$2),$D$2:$D$501,"<"&$D5)/COUNTIFS($B$2:$B$501,$B5,$D$2:$D$501,">="&($D5-Settings!$B$2),$D$2:$D$501,"<"&$D5),Settings!$B$3))) | F5: =IF(ISNUMBER($E5),ROUND($C5-$E5,2),"") | G5: =IF(ISNUMBER($F5),COUNTIFS($A$2:$A$501,$A5,$F$2:$F$501,">"&$F5)+1,"")
D6: =IF(OR($A6="",$B6="",$C6=""),"",COUNTIFS($B$2:$B$501,$B6,$C$2:$C$501,"<>",$A$2:$A$501,"<"&$A6)+COUNTIFS($B$1:$B5,$B6,$C$1:$C5,"<>",$A$1:$A5,$A6)+1) | E6: =IF($D6="","",IF(OR($D6=1,AND(Settings!$B$4="Yes",$D6<=Settings!$B$2)),IF(COUNTIFS(Players!$A$2:$A$101,$B6,Players!$B$2:$B$101,"<>")=0,"Add a starting quota",ROUND(SUMIFS(Players!$B$2:$B$101,Players!$A$2:$A$101,$B6),Settings!$B$3)),ROUND(SUMIFS($C$2:$C$501,$B$2:$B$501,$B6,$D$2:$D$501,">="&($D6-Settings!$B$2),$D$2:$D$501,"<"&$D6)/COUNTIFS($B$2:$B$501,$B6,$D$2:$D$501,">="&($D6-Settings!$B$2),$D$2:$D$501,"<"&$D6),Settings!$B$3))) | F6: =IF(ISNUMBER($E6),ROUND($C6-$E6,2),"") | G6: =IF(ISNUMBER($F6),COUNTIFS($A$2:$A$501,$A6,$F$2:$F$501,">"&$F6)+1,"")
D7: =IF(OR($A7="",$B7="",$C7=""),"",COUNTIFS($B$2:$B$501,$B7,$C$2:$C$501,"<>",$A$2:$A$501,"<"&$A7)+COUNTIFS($B$1:$B6,$B7,$C$1:$C6,"<>",$A$1:$A6,$A7)+1) | E7: =IF($D7="","",IF(OR($D7=1,AND(Settings!$B$4="Yes",$D7<=Settings!$B$2)),IF(COUNTIFS(Players!$A$2:$A$101,$B7,Players!$B$2:$B$101,"<>")=0,"Add a starting quota",ROUND(SUMIFS(Players!$B$2:$B$101,Players!$A$2:$A$101,$B7),Settings!$B$3)),ROUND(SUMIFS($C$2:$C$501,$B$2:$B$501,$B7,$D$2:$D$501,">="&($D7-Settings!$B$2),$D$2:$D$501,"<"&$D7)/COUNTIFS($B$2:$B$501,$B7,$D$2:$D$501,">="&($D7-Settings!$B$2),$D$2:$D$501,"<"&$D7),Settings!$B$3))) | F7: =IF(ISNUMBER($E7),ROUND($C7-$E7,2),"") | G7: =IF(ISNUMBER($F7),COUNTIFS($A$2:$A$501,$A7,$F$2:$F$501,">"&$F7)+1,"")
D8: =IF(OR($A8="",$B8="",$C8=""),"",COUNTIFS($B$2:$B$501,$B8,$C$2:$C$501,"<>",$A$2:$A$501,"<"&$A8)+COUNTIFS($B$1:$B7,$B8,$C$1:$C7,"<>",$A$1:$A7,$A8)+1) | E8: =IF($D8="","",IF(OR($D8=1,AND(Settings!$B$4="Yes",$D8<=Settings!$B$2)),IF(COUNTIFS(Players!$A$2:$A$101,$B8,Players!$B$2:$B$101,"<>")=0,"Add a starting quota",ROUND(SUMIFS(Players!$B$2:$B$101,Players!$A$2:$A$101,$B8),Settings!$B$3)),ROUND(SUMIFS($C$2:$C$501,$B$2:$B$501,$B8,$D$2:$D$501,">="&($D8-Settings!$B$2),$D$2:$D$501,"<"&$D8)/COUNTIFS($B$2:$B$501,$B8,$D$2:$D$501,">="&($D8-Settings!$B$2),$D$2:$D$501,"<"&$D8),Settings!$B$3))) | F8: =IF(ISNUMBER($E8),ROUND($C8-$E8,2),"") | G8: =IF(ISNUMBER($F8),COUNTIFS($A$2:$A$501,$A8,$F$2:$F$501,">"&$F8)+1,"")
D9: =IF(OR($A9="",$B9="",$C9=""),"",COUNTIFS($B$2:$B$501,$B9,$C$2:$C$501,"<>",$A$2:$A$501,"<"&$A9)+COUNTIFS($B$1:$B8,$B9,$C$1:$C8,"<>",$A$1:$A8,$A9)+1) | E9: =IF($D9="","",IF(OR($D9=1,AND(Settings!$B$4="Yes",$D9<=Settings!$B$2)),IF(COUNTIFS(Players!$A$2:$A$101,$B9,Players!$B$2:$B$101,"<>")=0,"Add a starting quota",ROUND(SUMIFS(Players!$B$2:$B$101,Players!$A$2:$A$101,$B9),Settings!$B$3)),ROUND(SUMIFS($C$2:$C$501,$B$2:$B$501,$B9,$D$2:$D$501,">="&($D9-Settings!$B$2),$D$2:$D$501,"<"&$D9)/COUNTIFS($B$2:$B$501,$B9,$D$2:$D$501,">="&($D9-Settings!$B$2),$D$2:$D$501,"<"&$D9),Settings!$B$3))) | F9: =IF(ISNUMBER($E9),ROUND($C9-$E9,2),"") | G9: =IF(ISNUMBER($F9),COUNTIFS($A$2:$A$501,$A9,$F$2:$F$501,">"&$F9)+1,"")
D10: =IF(OR($A10="",$B10="",$C10=""),"",COUNTIFS($B$2:$B$501,$B10,$C$2:$C$501,"<>",$A$2:$A$501,"<"&$A10)+COUNTIFS($B$1:$B9,$B10,$C$1:$C9,"<>",$A$1:$A9,$A10)+1) | E10: =IF($D10="","",IF(OR($D10=1,AND(Settings!$B$4="Yes",$D10<=Settings!$B$2)),IF(COUNTIFS(Players!$A$2:$A$101,$B10,Players!$B$2:$B$101,"<>")=0,"Add a starting quota",ROUND(SUMIFS(Players!$B$2:$B$101,Players!$A$2:$A$101,$B10),Settings!$B$3)),ROUND(SUMIFS($C$2:$C$501,$B$2:$B$501,$B10,$D$2:$D$501,">="&($D10-Settings!$B$2),$D$2:$D$501,"<"&$D10)/COUNTIFS($B$2:$B$501,$B10,$D$2:$D$501,">="&($D10-Settings!$B$2),$D$2:$D$501,"<"&$D10),Settings!$B$3))) | F10: =IF(ISNUMBER($E10),ROUND($C10-$E10,2),"") | G10: =IF(ISNUMBER($F10),COUNTIFS($A$2:$A$501,$A10,$F$2:$F$501,">"&$F10)+1,"")
D11: =IF(OR($A11="",$B11="",$C11=""),"",COUNTIFS($B$2:$B$501,$B11,$C$2:$C$501,"<>",$A$2:$A$501,"<"&$A11)+COUNTIFS($B$1:$B10,$B11,$C$1:$C10,"<>",$A$1:$A10,$A11)+1) | E11: =IF($D11="","",IF(OR($D11=1,AND(Settings!$B$4="Yes",$D11<=Settings!$B$2)),IF(COUNTIFS(Players!$A$2:$A$101,$B11,Players!$B$2:$B$101,"<>")=0,"Add a starting quota",ROUND(SUMIFS(Players!$B$2:$B$101,Players!$A$2:$A$101,$B11),Settings!$B$3)),ROUND(SUMIFS($C$2:$C$501,$B$2:$B$501,$B11,$D$2:$D$501,">="&($D11-Settings!$B$2),$D$2:$D$501,"<"&$D11)/COUNTIFS($B$2:$B$501,$B11,$D$2:$D$501,">="&($D11-Settings!$B$2),$D$2:$D$501,"<"&$D11),Settings!$B$3))) | F11: =IF(ISNUMBER($E11),ROUND($C11-$E11,2),"") | G11: =IF(ISNUMBER($F11),COUNTIFS($A$2:$A$501,$A11,$F$2:$F$501,">"&$F11)+1,"")
D12: =IF(OR($A12="",$B12="",$C12=""),"",COUNTIFS($B$2:$B$501,$B12,$C$2:$C$501,"<>",$A$2:$A$501,"<"&$A12)+COUNTIFS($B$1:$B11,$B12,$C$1:$C11,"<>",$A$1:$A11,$A12)+1) | E12: =IF($D12="","",IF(OR($D12=1,AND(Settings!$B$4="Yes",$D12<=Settings!$B$2)),IF(COUNTIFS(Players!$A$2:$A$101,$B12,Players!$B$2:$B$101,"<>")=0,"Add a starting quota",ROUND(SUMIFS(Players!$B$2:$B$101,Players!$A$2:$A$101,$B12),Settings!$B$3)),ROUND(SUMIFS($C$2:$C$501,$B$2:$B$501,$B12,$D$2:$D$501,">="&($D12-Settings!$B$2),$D$2:$D$501,"<"&$D12)/COUNTIFS($B$2:$B$501,$B12,$D$2:$D$501,">="&($D12-Settings!$B$2),$D$2:$D$501,"<"&$D12),Settings!$B$3))) | F12: =IF(ISNUMBER($E12),ROUND($C12-$E12,2),"") | G12: =IF(ISNUMBER($F12),COUNTIFS($A$2:$A$501,$A12,$F$2:$F$501,">"&$F12)+1,"")
D13: =IF(OR($A13="",$B13="",$C13=""),"",COUNTIFS($B$2:$B$501,$B13,$C$2:$C$501,"<>",$A$2:$A$501,"<"&$A13)+COUNTIFS($B$1:$B12,$B13,$C$1:$C12,"<>",$A$1:$A12,$A13)+1) | E13: =IF($D13="","",IF(OR($D13=1,AND(Settings!$B$4="Yes",$D13<=Settings!$B$2)),IF(COUNTIFS(Players!$A$2:$A$101,$B13,Players!$B$2:$B$101,"<>")=0,"Add a starting quota",ROUND(SUMIFS(Players!$B$2:$B$101,Players!$A$2:$A$101,$B13),Settings!$B$3)),ROUND(SUMIFS($C$2:$C$501,$B$2:$B$501,$B13,$D$2:$D$501,">="&($D13-Settings!$B$2),$D$2:$D$501,"<"&$D13)/COUNTIFS($B$2:$B$501,$B13,$D$2:$D$501,">="&($D13-Settings!$B$2),$D$2:$D$501,"<"&$D13),Settings!$B$3))) | F13: =IF(ISNUMBER($E13),ROUND($C13-$E13,2),"") | G13: =IF(ISNUMBER($F13),COUNTIFS($A$2:$A$501,$A13,$F$2:$F$501,">"&$F13)+1,"")
... D501: =IF(OR($A501="",$B501="",$C501=""),"",COUNTIFS($B$2:$B$501,$B501,$C$2:$C$501,"<>",$A$2:$A$501,"<"&$A501)+COUNTIFS($B$1:$B500,$B501,$C$1:$C500,"<>",$A$1:$A500,$A501)+1) | E501: =IF($D501="","",IF(OR($D501=1,AND(Settings!$B$4="Yes",$D501<=Settings!$B$2)),IF(COUNTIFS(Players!$A$2:$A$101,$B501,Players!$B$2:$B$101,"<>")=0,"Add a starting quota",ROUND(SUMIFS(Players!$B$2:$B$101,Players!$A$2:$A$101,$B501),Settings!$B$3)),ROUND(SUMIFS($C$2:$C$501,$B$2:$B$501,$B501,$D$2:$D$501,">="&($D501-Settings!$B$2),$D$2:$D$501,"<"&$D501)/COUNTIFS($B$2:$B$501,$B501,$D$2:$D$501,">="&($D501-Settings!$B$2),$D$2:$D$501,"<"&$D501),Settings!$B$3))) | F501: =IF(ISNUMBER($E501),ROUND($C501-$E501,2),"") | G501: =IF(ISNUMBER($F501),COUNTIFS($A$2:$A$501,$A501,$F$2:$F$501,">"&$F501)+1,"")

Sheet Standings
A1: Place | B1: Player | C1: Rounds played | D1: Total plus/minus | E1: Wins | F1: Current quota
A2: =IF($B2="","",COUNTIF(Players!$F$2:$F$101,">"&$D2)+1) | B2: =IFERROR(INDEX(Players!$A$2:$A$101,MATCH(1,Players!$H$2:$H$101,0)),"") | C2: =IF($B2="","",INDEX(Players!$E$2:$E$101,MATCH(1,Players!$H$2:$H$101,0))) | D2: =IF($B2="","",INDEX(Players!$F$2:$F$101,MATCH(1,Players!$H$2:$H$101,0))) | E2: =IF($B2="","",INDEX(Players!$G$2:$G$101,MATCH(1,Players!$H$2:$H$101,0))) | F2: =IF($B2="","",INDEX(Players!$D$2:$D$101,MATCH(1,Players!$H$2:$H$101,0)))
A3: =IF($B3="","",COUNTIF(Players!$F$2:$F$101,">"&$D3)+1) | B3: =IFERROR(INDEX(Players!$A$2:$A$101,MATCH(2,Players!$H$2:$H$101,0)),"") | C3: =IF($B3="","",INDEX(Players!$E$2:$E$101,MATCH(2,Players!$H$2:$H$101,0))) | D3: =IF($B3="","",INDEX(Players!$F$2:$F$101,MATCH(2,Players!$H$2:$H$101,0))) | E3: =IF($B3="","",INDEX(Players!$G$2:$G$101,MATCH(2,Players!$H$2:$H$101,0))) | F3: =IF($B3="","",INDEX(Players!$D$2:$D$101,MATCH(2,Players!$H$2:$H$101,0)))
A4: =IF($B4="","",COUNTIF(Players!$F$2:$F$101,">"&$D4)+1) | B4: =IFERROR(INDEX(Players!$A$2:$A$101,MATCH(3,Players!$H$2:$H$101,0)),"") | C4: =IF($B4="","",INDEX(Players!$E$2:$E$101,MATCH(3,Players!$H$2:$H$101,0))) | D4: =IF($B4="","",INDEX(Players!$F$2:$F$101,MATCH(3,Players!$H$2:$H$101,0))) | E4: =IF($B4="","",INDEX(Players!$G$2:$G$101,MATCH(3,Players!$H$2:$H$101,0))) | F4: =IF($B4="","",INDEX(Players!$D$2:$D$101,MATCH(3,Players!$H$2:$H$101,0)))
A5: =IF($B5="","",COUNTIF(Players!$F$2:$F$101,">"&$D5)+1) | B5: =IFERROR(INDEX(Players!$A$2:$A$101,MATCH(4,Players!$H$2:$H$101,0)),"") | C5: =IF($B5="","",INDEX(Players!$E$2:$E$101,MATCH(4,Players!$H$2:$H$101,0))) | D5: =IF($B5="","",INDEX(Players!$F$2:$F$101,MATCH(4,Players!$H$2:$H$101,0))) | E5: =IF($B5="","",INDEX(Players!$G$2:$G$101,MATCH(4,Players!$H$2:$H$101,0))) | F5: =IF($B5="","",INDEX(Players!$D$2:$D$101,MATCH(4,Players!$H$2:$H$101,0)))
A6: =IF($B6="","",COUNTIF(Players!$F$2:$F$101,">"&$D6)+1) | B6: =IFERROR(INDEX(Players!$A$2:$A$101,MATCH(5,Players!$H$2:$H$101,0)),"") | C6: =IF($B6="","",INDEX(Players!$E$2:$E$101,MATCH(5,Players!$H$2:$H$101,0))) | D6: =IF($B6="","",INDEX(Players!$F$2:$F$101,MATCH(5,Players!$H$2:$H$101,0))) | E6: =IF($B6="","",INDEX(Players!$G$2:$G$101,MATCH(5,Players!$H$2:$H$101,0))) | F6: =IF($B6="","",INDEX(Players!$D$2:$D$101,MATCH(5,Players!$H$2:$H$101,0)))
A7: =IF($B7="","",COUNTIF(Players!$F$2:$F$101,">"&$D7)+1) | B7: =IFERROR(INDEX(Players!$A$2:$A$101,MATCH(6,Players!$H$2:$H$101,0)),"") | C7: =IF($B7="","",INDEX(Players!$E$2:$E$101,MATCH(6,Players!$H$2:$H$101,0))) | D7: =IF($B7="","",INDEX(Players!$F$2:$F$101,MATCH(6,Players!$H$2:$H$101,0))) | E7: =IF($B7="","",INDEX(Players!$G$2:$G$101,MATCH(6,Players!$H$2:$H$101,0))) | F7: =IF($B7="","",INDEX(Players!$D$2:$D$101,MATCH(6,Players!$H$2:$H$101,0)))
A8: =IF($B8="","",COUNTIF(Players!$F$2:$F$101,">"&$D8)+1) | B8: =IFERROR(INDEX(Players!$A$2:$A$101,MATCH(7,Players!$H$2:$H$101,0)),"") | C8: =IF($B8="","",INDEX(Players!$E$2:$E$101,MATCH(7,Players!$H$2:$H$101,0))) | D8: =IF($B8="","",INDEX(Players!$F$2:$F$101,MATCH(7,Players!$H$2:$H$101,0))) | E8: =IF($B8="","",INDEX(Players!$G$2:$G$101,MATCH(7,Players!$H$2:$H$101,0))) | F8: =IF($B8="","",INDEX(Players!$D$2:$D$101,MATCH(7,Players!$H$2:$H$101,0)))
A9: =IF($B9="","",COUNTIF(Players!$F$2:$F$101,">"&$D9)+1) | B9: =IFERROR(INDEX(Players!$A$2:$A$101,MATCH(8,Players!$H$2:$H$101,0)),"") | C9: =IF($B9="","",INDEX(Players!$E$2:$E$101,MATCH(8,Players!$H$2:$H$101,0))) | D9: =IF($B9="","",INDEX(Players!$F$2:$F$101,MATCH(8,Players!$H$2:$H$101,0))) | E9: =IF($B9="","",INDEX(Players!$G$2:$G$101,MATCH(8,Players!$H$2:$H$101,0))) | F9: =IF($B9="","",INDEX(Players!$D$2:$D$101,MATCH(8,Players!$H$2:$H$101,0)))
A10: =IF($B10="","",COUNTIF(Players!$F$2:$F$101,">"&$D10)+1) | B10: =IFERROR(INDEX(Players!$A$2:$A$101,MATCH(9,Players!$H$2:$H$101,0)),"") | C10: =IF($B10="","",INDEX(Players!$E$2:$E$101,MATCH(9,Players!$H$2:$H$101,0))) | D10: =IF($B10="","",INDEX(Players!$F$2:$F$101,MATCH(9,Players!$H$2:$H$101,0))) | E10: =IF($B10="","",INDEX(Players!$G$2:$G$101,MATCH(9,Players!$H$2:$H$101,0))) | F10: =IF($B10="","",INDEX(Players!$D$2:$D$101,MATCH(9,Players!$H$2:$H$101,0)))
A11: =IF($B11="","",COUNTIF(Players!$F$2:$F$101,">"&$D11)+1) | B11: =IFERROR(INDEX(Players!$A$2:$A$101,MATCH(10,Players!$H$2:$H$101,0)),"") | C11: =IF($B11="","",INDEX(Players!$E$2:$E$101,MATCH(10,Players!$H$2:$H$101,0))) | D11: =IF($B11="","",INDEX(Players!$F$2:$F$101,MATCH(10,Players!$H$2:$H$101,0))) | E11: =IF($B11="","",INDEX(Players!$G$2:$G$101,MATCH(10,Players!$H$2:$H$101,0))) | F11: =IF($B11="","",INDEX(Players!$D$2:$D$101,MATCH(10,Players!$H$2:$H$101,0)))
A12: =IF($B12="","",COUNTIF(Players!$F$2:$F$101,">"&$D12)+1) | B12: =IFERROR(INDEX(Players!$A$2:$A$101,MATCH(11,Players!$H$2:$H$101,0)),"") | C12: =IF($B12="","",INDEX(Players!$E$2:$E$101,MATCH(11,Players!$H$2:$H$101,0))) | D12: =IF($B12="","",INDEX(Players!$F$2:$F$101,MATCH(11,Players!$H$2:$H$101,0))) | E12: =IF($B12="","",INDEX(Players!$G$2:$G$101,MATCH(11,Players!$H$2:$H$101,0))) | F12: =IF($B12="","",INDEX(Players!$D$2:$D$101,MATCH(11,Players!$H$2:$H$101,0)))
A13: =IF($B13="","",COUNTIF(Players!$F$2:$F$101,">"&$D13)+1) | B13: =IFERROR(INDEX(Players!$A$2:$A$101,MATCH(12,Players!$H$2:$H$101,0)),"") | C13: =IF($B13="","",INDEX(Players!$E$2:$E$101,MATCH(12,Players!$H$2:$H$101,0))) | D13: =IF($B13="","",INDEX(Players!$F$2:$F$101,MATCH(12,Players!$H$2:$H$101,0))) | E13: =IF($B13="","",INDEX(Players!$G$2:$G$101,MATCH(12,Players!$H$2:$H$101,0))) | F13: =IF($B13="","",INDEX(Players!$D$2:$D$101,MATCH(12,Players!$H$2:$H$101,0)))
A14: =IF($B14="","",COUNTIF(Players!$F$2:$F$101,">"&$D14)+1) | B14: =IFERROR(INDEX(Players!$A$2:$A$101,MATCH(13,Players!$H$2:$H$101,0)),"") | C14: =IF($B14="","",INDEX(Players!$E$2:$E$101,MATCH(13,Players!$H$2:$H$101,0))) | D14: =IF($B14="","",INDEX(Players!$F$2:$F$101,MATCH(13,Players!$H$2:$H$101,0))) | E14: =IF($B14="","",INDEX(Players!$G$2:$G$101,MATCH(13,Players!$H$2:$H$101,0))) | F14: =IF($B14="","",INDEX(Players!$D$2:$D$101,MATCH(13,Players!$H$2:$H$101,0)))
A15: =IF($B15="","",COUNTIF(Players!$F$2:$F$101,">"&$D15)+1) | B15: =IFERROR(INDEX(Players!$A$2:$A$101,MATCH(14,Players!$H$2:$H$101,0)),"") | C15: =IF($B15="","",INDEX(Players!$E$2:$E$101,MATCH(14,Players!$H$2:$H$101,0))) | D15: =IF($B15="","",INDEX(Players!$F$2:$F$101,MATCH(14,Players!$H$2:$H$101,0))) | E15: =IF($B15="","",INDEX(Players!$G$2:$G$101,MATCH(14,Players!$H$2:$H$101,0))) | F15: =IF($B15="","",INDEX(Players!$D$2:$D$101,MATCH(14,Players!$H$2:$H$101,0)))
A16: =IF($B16="","",COUNTIF(Players!$F$2:$F$101,">"&$D16)+1) | B16: =IFERROR(INDEX(Players!$A$2:$A$101,MATCH(15,Players!$H$2:$H$101,0)),"") | C16: =IF($B16="","",INDEX(Players!$E$2:$E$101,MATCH(15,Players!$H$2:$H$101,0))) | D16: =IF($B16="","",INDEX(Players!$F$2:$F$101,MATCH(15,Players!$H$2:$H$101,0))) | E16: =IF($B16="","",INDEX(Players!$G$2:$G$101,MATCH(15,Players!$H$2:$H$101,0))) | F16: =IF($B16="","",INDEX(Players!$D$2:$D$101,MATCH(15,Players!$H$2:$H$101,0)))
A17: =IF($B17="","",COUNTIF(Players!$F$2:$F$101,">"&$D17)+1) | B17: =IFERROR(INDEX(Players!$A$2:$A$101,MATCH(16,Players!$H$2:$H$101,0)),"") | C17: =IF($B17="","",INDEX(Players!$E$2:$E$101,MATCH(16,Players!$H$2:$H$101,0))) | D17: =IF($B17="","",INDEX(Players!$F$2:$F$101,MATCH(16,Players!$H$2:$H$101,0))) | E17: =IF($B17="","",INDEX(Players!$G$2:$G$101,MATCH(16,Players!$H$2:$H$101,0))) | F17: =IF($B17="","",INDEX(Players!$D$2:$D$101,MATCH(16,Players!$H$2:$H$101,0)))
A18: =IF($B18="","",COUNTIF(Players!$F$2:$F$101,">"&$D18)+1) | B18: =IFERROR(INDEX(Players!$A$2:$A$101,MATCH(17,Players!$H$2:$H$101,0)),"") | C18: =IF($B18="","",INDEX(Players!$E$2:$E$101,MATCH(17,Players!$H$2:$H$101,0))) | D18: =IF($B18="","",INDEX(Players!$F$2:$F$101,MATCH(17,Players!$H$2:$H$101,0))) | E18: =IF($B18="","",INDEX(Players!$G$2:$G$101,MATCH(17,Players!$H$2:$H$101,0))) | F18: =IF($B18="","",INDEX(Players!$D$2:$D$101,MATCH(17,Players!$H$2:$H$101,0)))
A19: =IF($B19="","",COUNTIF(Players!$F$2:$F$101,">"&$D19)+1) | B19: =IFERROR(INDEX(Players!$A$2:$A$101,MATCH(18,Players!$H$2:$H$101,0)),"") | C19: =IF($B19="","",INDEX(Players!$E$2:$E$101,MATCH(18,Players!$H$2:$H$101,0))) | D19: =IF($B19="","",INDEX(Players!$F$2:$F$101,MATCH(18,Players!$H$2:$H$101,0))) | E19: =IF($B19="","",INDEX(Players!$G$2:$G$101,MATCH(18,Players!$H$2:$H$101,0))) | F19: =IF($B19="","",INDEX(Players!$D$2:$D$101,MATCH(18,Players!$H$2:$H$101,0)))
A20: =IF($B20="","",COUNTIF(Players!$F$2:$F$101,">"&$D20)+1) | B20: =IFERROR(INDEX(Players!$A$2:$A$101,MATCH(19,Players!$H$2:$H$101,0)),"") | C20: =IF($B20="","",INDEX(Players!$E$2:$E$101,MATCH(19,Players!$H$2:$H$101,0))) | D20: =IF($B20="","",INDEX(Players!$F$2:$F$101,MATCH(19,Players!$H$2:$H$101,0))) | E20: =IF($B20="","",INDEX(Players!$G$2:$G$101,MATCH(19,Players!$H$2:$H$101,0))) | F20: =IF($B20="","",INDEX(Players!$D$2:$D$101,MATCH(19,Players!$H$2:$H$101,0)))
A21: =IF($B21="","",COUNTIF(Players!$F$2:$F$101,">"&$D21)+1) | B21: =IFERROR(INDEX(Players!$A$2:$A$101,MATCH(20,Players!$H$2:$H$101,0)),"") | C21: =IF($B21="","",INDEX(Players!$E$2:$E$101,MATCH(20,Players!$H$2:$H$101,0))) | D21: =IF($B21="","",INDEX(Players!$F$2:$F$101,MATCH(20,Players!$H$2:$H$101,0))) | E21: =IF($B21="","",INDEX(Players!$G$2:$G$101,MATCH(20,Players!$H$2:$H$101,0))) | F21: =IF($B21="","",INDEX(Players!$D$2:$D$101,MATCH(20,Players!$H$2:$H$101,0)))
A22: =IF($B22="","",COUNTIF(Players!$F$2:$F$101,">"&$D22)+1) | B22: =IFERROR(INDEX(Players!$A$2:$A$101,MATCH(21,Players!$H$2:$H$101,0)),"") | C22: =IF($B22="","",INDEX(Players!$E$2:$E$101,MATCH(21,Players!$H$2:$H$101,0))) | D22: =IF($B22="","",INDEX(Players!$F$2:$F$101,MATCH(21,Players!$H$2:$H$101,0))) | E22: =IF($B22="","",INDEX(Players!$G$2:$G$101,MATCH(21,Players!$H$2:$H$101,0))) | F22: =IF($B22="","",INDEX(Players!$D$2:$D$101,MATCH(21,Players!$H$2:$H$101,0)))
A23: =IF($B23="","",COUNTIF(Players!$F$2:$F$101,">"&$D23)+1) | B23: =IFERROR(INDEX(Players!$A$2:$A$101,MATCH(22,Players!$H$2:$H$101,0)),"") | C23: =IF($B23="","",INDEX(Players!$E$2:$E$101,MATCH(22,Players!$H$2:$H$101,0))) | D23: =IF($B23="","",INDEX(Players!$F$2:$F$101,MATCH(22,Players!$H$2:$H$101,0))) | E23: =IF($B23="","",INDEX(Players!$G$2:$G$101,MATCH(22,Players!$H$2:$H$101,0))) | F23: =IF($B23="","",INDEX(Players!$D$2:$D$101,MATCH(22,Players!$H$2:$H$101,0)))
A24: =IF($B24="","",COUNTIF(Players!$F$2:$F$101,">"&$D24)+1) | B24: =IFERROR(INDEX(Players!$A$2:$A$101,MATCH(23,Players!$H$2:$H$101,0)),"") | C24: =IF($B24="","",INDEX(Players!$E$2:$E$101,MATCH(23,Players!$H$2:$H$101,0))) | D24: =IF($B24="","",INDEX(Players!$F$2:$F$101,MATCH(23,Players!$H$2:$H$101,0))) | E24: =IF($B24="","",INDEX(Players!$G$2:$G$101,MATCH(23,Players!$H$2:$H$101,0))) | F24: =IF($B24="","",INDEX(Players!$D$2:$D$101,MATCH(23,Players!$H$2:$H$101,0)))
A25: =IF($B25="","",COUNTIF(Players!$F$2:$F$101,">"&$D25)+1) | B25: =IFERROR(INDEX(Players!$A$2:$A$101,MATCH(24,Players!$H$2:$H$101,0)),"") | C25: =IF($B25="","",INDEX(Players!$E$2:$E$101,MATCH(24,Players!$H$2:$H$101,0))) | D25: =IF($B25="","",INDEX(Players!$F$2:$F$101,MATCH(24,Players!$H$2:$H$101,0))) | E25: =IF($B25="","",INDEX(Players!$G$2:$G$101,MATCH(24,Players!$H$2:$H$101,0))) | F25: =IF($B25="","",INDEX(Players!$D$2:$D$101,MATCH(24,Players!$H$2:$H$101,0)))
A26: =IF($B26="","",COUNTIF(Players!$F$2:$F$101,">"&$D26)+1) | B26: =IFERROR(INDEX(Players!$A$2:$A$101,MATCH(25,Players!$H$2:$H$101,0)),"") | C26: =IF($B26="","",INDEX(Players!$E$2:$E$101,MATCH(25,Players!$H$2:$H$101,0))) | D26: =IF($B26="","",INDEX(Players!$F$2:$F$101,MATCH(25,Players!$H$2:$H$101,0))) | E26: =IF($B26="","",INDEX(Players!$G$2:$G$101,MATCH(25,Players!$H$2:$H$101,0))) | F26: =IF($B26="","",INDEX(Players!$D$2:$D$101,MATCH(25,Players!$H$2:$H$101,0)))
A27: =IF($B27="","",COUNTIF(Players!$F$2:$F$101,">"&$D27)+1) | B27: =IFERROR(INDEX(Players!$A$2:$A$101,MATCH(26,Players!$H$2:$H$101,0)),"") | C27: =IF($B27="","",INDEX(Players!$E$2:$E$101,MATCH(26,Players!$H$2:$H$101,0))) | D27: =IF($B27="","",INDEX(Players!$F$2:$F$101,MATCH(26,Players!$H$2:$H$101,0))) | E27: =IF($B27="","",INDEX(Players!$G$2:$G$101,MATCH(26,Players!$H$2:$H$101,0))) | F27: =IF($B27="","",INDEX(Players!$D$2:$D$101,MATCH(26,Players!$H$2:$H$101,0)))
A28: =IF($B28="","",COUNTIF(Players!$F$2:$F$101,">"&$D28)+1) | B28: =IFERROR(INDEX(Players!$A$2:$A$101,MATCH(27,Players!$H$2:$H$101,0)),"") | C28: =IF($B28="","",INDEX(Players!$E$2:$E$101,MATCH(27,Players!$H$2:$H$101,0))) | D28: =IF($B28="","",INDEX(Players!$F$2:$F$101,MATCH(27,Players!$H$2:$H$101,0))) | E28: =IF($B28="","",INDEX(Players!$G$2:$G$101,MATCH(27,Players!$H$2:$H$101,0))) | F28: =IF($B28="","",INDEX(Players!$D$2:$D$101,MATCH(27,Players!$H$2:$H$101,0)))
A29: =IF($B29="","",COUNTIF(Players!$F$2:$F$101,">"&$D29)+1) | B29: =IFERROR(INDEX(Players!$A$2:$A$101,MATCH(28,Players!$H$2:$H$101,0)),"") | C29: =IF($B29="","",INDEX(Players!$E$2:$E$101,MATCH(28,Players!$H$2:$H$101,0))) | D29: =IF($B29="","",INDEX(Players!$F$2:$F$101,MATCH(28,Players!$H$2:$H$101,0))) | E29: =IF($B29="","",INDEX(Players!$G$2:$G$101,MATCH(28,Players!$H$2:$H$101,0))) | F29: =IF($B29="","",INDEX(Players!$D$2:$D$101,MATCH(28,Players!$H$2:$H$101,0)))
A30: =IF($B30="","",COUNTIF(Players!$F$2:$F$101,">"&$D30)+1) | B30: =IFERROR(INDEX(Players!$A$2:$A$101,MATCH(29,Players!$H$2:$H$101,0)),"") | C30: =IF($B30="","",INDEX(Players!$E$2:$E$101,MATCH(29,Players!$H$2:$H$101,0))) | D30: =IF($B30="","",INDEX(Players!$F$2:$F$101,MATCH(29,Players!$H$2:$H$101,0))) | E30: =IF($B30="","",INDEX(Players!$G$2:$G$101,MATCH(29,Players!$H$2:$H$101,0))) | F30: =IF($B30="","",INDEX(Players!$D$2:$D$101,MATCH(29,Players!$H$2:$H$101,0)))
A31: =IF($B31="","",COUNTIF(Players!$F$2:$F$101,">"&$D31)+1) | B31: =IFERROR(INDEX(Players!$A$2:$A$101,MATCH(30,Players!$H$2:$H$101,0)),"") | C31: =IF($B31="","",INDEX(Players!$E$2:$E$101,MATCH(30,Players!$H$2:$H$101,0))) | D31: =IF($B31="","",INDEX(Players!$F$2:$F$101,MATCH(30,Players!$H$2:$H$101,0))) | E31: =IF($B31="","",INDEX(Players!$G$2:$G$101,MATCH(30,Players!$H$2:$H$101,0))) | F31: =IF($B31="","",INDEX(Players!$D$2:$D$101,MATCH(30,Players!$H$2:$H$101,0)))
A32: =IF($B32="","",COUNTIF(Players!$F$2:$F$101,">"&$D32)+1) | B32: =IFERROR(INDEX(Players!$A$2:$A$101,MATCH(31,Players!$H$2:$H$101,0)),"") | C32: =IF($B32="","",INDEX(Players!$E$2:$E$101,MATCH(31,Players!$H$2:$H$101,0))) | D32: =IF($B32="","",INDEX(Players!$F$2:$F$101,MATCH(31,Players!$H$2:$H$101,0))) | E32: =IF($B32="","",INDEX(Players!$G$2:$G$101,MATCH(31,Players!$H$2:$H$101,0))) | F32: =IF($B32="","",INDEX(Players!$D$2:$D$101,MATCH(31,Players!$H$2:$H$101,0)))
A33: =IF($B33="","",COUNTIF(Players!$F$2:$F$101,">"&$D33)+1) | B33: =IFERROR(INDEX(Players!$A$2:$A$101,MATCH(32,Players!$H$2:$H$101,0)),"") | C33: =IF($B33="","",INDEX(Players!$E$2:$E$101,MATCH(32,Players!$H$2:$H$101,0))) | D33: =IF($B33="","",INDEX(Players!$F$2:$F$101,MATCH(32,Players!$H$2:$H$101,0))) | E33: =IF($B33="","",INDEX(Players!$G$2:$G$101,MATCH(32,Players!$H$2:$H$101,0))) | F33: =IF($B33="","",INDEX(Players!$D$2:$D$101,MATCH(32,Players!$H$2:$H$101,0)))
A34: =IF($B34="","",COUNTIF(Players!$F$2:$F$101,">"&$D34)+1) | B34: =IFERROR(INDEX(Players!$A$2:$A$101,MATCH(33,Players!$H$2:$H$101,0)),"") | C34: =IF($B34="","",INDEX(Players!$E$2:$E$101,MATCH(33,Players!$H$2:$H$101,0))) | D34: =IF($B34="","",INDEX(Players!$F$2:$F$101,MATCH(33,Players!$H$2:$H$101,0))) | E34: =IF($B34="","",INDEX(Players!$G$2:$G$101,MATCH(33,Players!$H$2:$H$101,0))) | F34: =IF($B34="","",INDEX(Players!$D$2:$D$101,MATCH(33,Players!$H$2:$H$101,0)))
A35: =IF($B35="","",COUNTIF(Players!$F$2:$F$101,">"&$D35)+1) | B35: =IFERROR(INDEX(Players!$A$2:$A$101,MATCH(34,Players!$H$2:$H$101,0)),"") | C35: =IF($B35="","",INDEX(Players!$E$2:$E$101,MATCH(34,Players!$H$2:$H$101,0))) | D35: =IF($B35="","",INDEX(Players!$F$2:$F$101,MATCH(34,Players!$H$2:$H$101,0))) | E35: =IF($B35="","",INDEX(Players!$G$2:$G$101,MATCH(34,Players!$H$2:$H$101,0))) | F35: =IF($B35="","",INDEX(Players!$D$2:$D$101,MATCH(34,Players!$H$2:$H$101,0)))
A36: =IF($B36="","",COUNTIF(Players!$F$2:$F$101,">"&$D36)+1) | B36: =IFERROR(INDEX(Players!$A$2:$A$101,MATCH(35,Players!$H$2:$H$101,0)),"") | C36: =IF($B36="","",INDEX(Players!$E$2:$E$101,MATCH(35,Players!$H$2:$H$101,0))) | D36: =IF($B36="","",INDEX(Players!$F$2:$F$101,MATCH(35,Players!$H$2:$H$101,0))) | E36: =IF($B36="","",INDEX(Players!$G$2:$G$101,MATCH(35,Players!$H$2:$H$101,0))) | F36: =IF($B36="","",INDEX(Players!$D$2:$D$101,MATCH(35,Players!$H$2:$H$101,0)))
A37: =IF($B37="","",COUNTIF(Players!$F$2:$F$101,">"&$D37)+1) | B37: =IFERROR(INDEX(Players!$A$2:$A$101,MATCH(36,Players!$H$2:$H$101,0)),"") | C37: =IF($B37="","",INDEX(Players!$E$2:$E$101,MATCH(36,Players!$H$2:$H$101,0))) | D37: =IF($B37="","",INDEX(Players!$F$2:$F$101,MATCH(36,Players!$H$2:$H$101,0))) | E37: =IF($B37="","",INDEX(Players!$G$2:$G$101,MATCH(36,Players!$H$2:$H$101,0))) | F37: =IF($B37="","",INDEX(Players!$D$2:$D$101,MATCH(36,Players!$H$2:$H$101,0)))
A38: =IF($B38="","",COUNTIF(Players!$F$2:$F$101,">"&$D38)+1) | B38: =IFERROR(INDEX(Players!$A$2:$A$101,MATCH(37,Players!$H$2:$H$101,0)),"") | C38: =IF($B38="","",INDEX(Players!$E$2:$E$101,MATCH(37,Players!$H$2:$H$101,0))) | D38: =IF($B38="","",INDEX(Players!$F$2:$F$101,MATCH(37,Players!$H$2:$H$101,0))) | E38: =IF($B38="","",INDEX(Players!$G$2:$G$101,MATCH(37,Players!$H$2:$H$101,0))) | F38: =IF($B38="","",INDEX(Players!$D$2:$D$101,MATCH(37,Players!$H$2:$H$101,0)))
A39: =IF($B39="","",COUNTIF(Players!$F$2:$F$101,">"&$D39)+1) | B39: =IFERROR(INDEX(Players!$A$2:$A$101,MATCH(38,Players!$H$2:$H$101,0)),"") | C39: =IF($B39="","",INDEX(Players!$E$2:$E$101,MATCH(38,Players!$H$2:$H$101,0))) | D39: =IF($B39="","",INDEX(Players!$F$2:$F$101,MATCH(38,Players!$H$2:$H$101,0))) | E39: =IF($B39="","",INDEX(Players!$G$2:$G$101,MATCH(38,Players!$H$2:$H$101,0))) | F39: =IF($B39="","",INDEX(Players!$D$2:$D$101,MATCH(38,Players!$H$2:$H$101,0)))
A40: =IF($B40="","",COUNTIF(Players!$F$2:$F$101,">"&$D40)+1) | B40: =IFERROR(INDEX(Players!$A$2:$A$101,MATCH(39,Players!$H$2:$H$101,0)),"") | C40: =IF($B40="","",INDEX(Players!$E$2:$E$101,MATCH(39,Players!$H$2:$H$101,0))) | D40: =IF($B40="","",INDEX(Players!$F$2:$F$101,MATCH(39,Players!$H$2:$H$101,0))) | E40: =IF($B40="","",INDEX(Players!$G$2:$G$101,MATCH(39,Players!$H$2:$H$101,0))) | F40: =IF($B40="","",INDEX(Players!$D$2:$D$101,MATCH(39,Players!$H$2:$H$101,0)))
...

Sheet Points
A1: Score | B1: Points | C1: A common scale, not a rule. Change it to the one your group plays.
A2: Eagle or better | B2: 8
A3: Birdie | B3: 4
A4: Par | B4: 2
A5: Bogey | B5: 1
A6: Double bogey or worse | B6: 0

Sheet Settings
A1: Setting | B1: Value | C1: What it does
A2: Rounds counted | B2: 10 | C2: A quota is the average of the player’s latest points totals, up to this many rounds. From 4 to 20.
A3: Decimal places | B3: 1 | C3: Quotas are rounded half up to this many decimal places: 0, 1 or 2.
A4: Hold the starting quota | B4: No | C4: Yes: a player keeps their starting quota until they’ve played as many rounds as are counted. No: the average takes over after their first round.
